Workbook
Name \I: #REF!
Name \I: #REF!
Name \P: #REF!
Name \P: #REF!
Name aa: '[6]Oil Consumption – barrels'!#REF!
Name aa: '[1]Oil Consumption – barrels'!#REF!
Name aa: '[1]Oil Consumption – barrels'!#REF!
Name CFHeadings: '[2]Conversion factors_1'!$B$5:$Q$5
Name CFHeadings: '[5]Conversion factors_1'!$B$5:$Q$5
Name CFHeadings: '[3]Conversion factors_1'!$B$5:$Q$5
Name ConversionFactors: OFFSET('[2]Conversion factors_1'!$B$6,0,0,100,16)
Name ConversionFactors: OFFSET('[5]Conversion factors_1'!$B$6,0,0,100,16)
Name ConversionFactors: OFFSET('[3]Conversion factors_1'!$B$6,0,0,100,16)
Name ConversionFactors2: OFFSET('[2]Conversion factors_2'!$B$6,0,0,100,16)
Name ConversionFactors2: OFFSET('[5]Conversion factors_2'!$B$6,0,0,100,16)
Name ConversionFactors2: OFFSET('[3]Conversion factors_2'!$B$6,0,0,100,16)
Name Countries: '[7]automatic MM'!$C$77:$C$114
Name Countries: '[4]automatic MM'!$C$77:$C$114
Name CountryName: '[7]automatic MM'!$D$6
Name CountryName: '[4]automatic MM'!$D$6
Name CountryName_1: '[7]automatic MM'!$D$6
Name CountryName_1: '[4]automatic MM'!$D$6
Name DataYear: '[7]automatic MM'!$D$9
Name DataYear: '[4]automatic MM'!$D$9
Name Exceptions: OFFSET([7]Exceptions!$B$8,1,0,COUNTA([7]Exceptions!$B$8:$B$305)-1,6)
Name Exceptions: OFFSET([4]Exceptions!$B$8,1,0,COUNTA([4]Exceptions!$B$8:$B$305)-1,6)
Name INIT: #REF!
Name INIT: #REF!
Name INIT: #REF!
Name LEAP: #REF!
Name LEAP: #REF!
Name MJ_per_toe: 41868
Name NAS_Year: #REF!
Name NAS_Year: #REF!
Name NONLEAP: #REF!
Name NONLEAP: #REF!
Name NONLEAP: #REF!
Name Print1: #REF!
Name Print1: #REF!
Name Print1: #REF!
Name RawData: '[2]Data in physical units_1'!$B$5:$BM$106
Name RawData: '[5]Data in physical units_1'!$B$5:$BM$106
Name RawData: '[3]Data in physical units_1'!$B$5:$BM$106
Name RawData2: '[2]Data in physical units_2'!$B$5:$BM$106
Name RawData2: '[5]Data in physical units_2'!$B$5:$BM$106
Name RawData2: '[3]Data in physical units_2'!$B$5:$BM$106
Name RawDataHeadings: '[2]Data in physical units_1'!$B$4:$BM$4
Name RawDataHeadings: '[5]Data in physical units_1'!$B$4:$BM$4
Name RawDataHeadings: '[3]Data in physical units_1'!$B$4:$BM$4
Name RawDataHeadings2: '[2]Data in physical units_2'!$B$4:$BM$4
Name RawDataHeadings2: '[5]Data in physical units_2'!$B$4:$BM$4
Name RawDataHeadings2: '[3]Data in physical units_2'!$B$4:$BM$4

Sheet 7.1_FY-2023-24(F) 
A1: Table-7.1 : Energy Commodity Balance for 2023-24 (Final)
A2: Supply | B2: Coal | C2: Lignite | D2: LPG | E2: Naphtha | F2: Kerosene | G2: Diesel (HSD+ LDO) | H2: Fuel Oil | I2: Lubricants | J2: Bitumin | K2: Petrol/Motor Spirit | L2: ATF | M2: Petroleum Coke | N2: Other Petroleum Products* | O2: Natural Gas | P2: Electricity
B3: (000 tonnes) | O3: MMSCM | P3: (GWh)
A4: Production | B4: 997826 | C4: 42921 | D4: 12776.939 | E4: 18274.078 | F4: 983.11193 | G4: 116600.13 | H4: 10442.221 | I4: 1351.5869 | J4: 5239.9738 | K4: 45080.56 | L4: 17124.079 | M4: 15054.181 | N4: 33129.192 | O4: 36437.867 | P4: 1734375.1
A5: From Other Sources | P5: 223902.69
A6: Imports | B6: 264531.37 | C6: 52.116931 | D6: 18514.197 | E6: 1210.7779 | F6: 0 | G6: 42.058901 | H6: 9052.6393 | I6: 2412.4713 | J6: 3243.6173 | K6: 717.40102 | L6: 0.00235 | M6: 10955.785 | N6: 2543.8749 | O6: 31795.201 | P6: 6147.233
A7: Exports | B7: -1545.365 | C7: -1.618089 | D7: -525.382 | E7: -5275.2697 | F7: -10.891 | G7: -28204.496 | H7: -2102.9561 | I7: -14.808286 | J7: -17.564696 | K7: -13472.478 | L7: -8579.3739 | M7: -27.5 | N7: -4362.1473 | O7: 0 | P7: -11295.188
A8: International marine bunkers | G8: 867
A9: International aviation bunkers | L9: 2057
A10: Stock changes | B10: -24330 | C10: -327
A11: Domestic Supply | B11: =SUM(B4:B10) -> 1236482 | C11: =SUM(C4:C10) -> 42644.499 | D11: =SUM(D4:D10) -> 30765.755 | E11: =SUM(E4:E10) -> 14209.587 | F11: =SUM(F4:F10) -> 972.22093 | G11: =SUM(G4:G10) -> 89304.695 | H11: =SUM(H4:H10) -> 17391.904 | I11: =SUM(I4:I10) -> 3749.2499 | ... P11: =SUM(P4:P10) -> 1953129.8
A12: Transfer
A13: Statistical difference | B13: -1217.1602 | C13: -1.501158 | D13: 1102.1383 | E13: 397.5227 | F13: 493.14564 | G13: -1103.3055 | H13: 10871.584 | I13: -337.95475 | J13: -341.22143 | K13: -4893.8795 | L13: 2354.6694 | M13: 5663.9278 | N13: 16614.846 | O13: -6878.2325 | P13: 17007.408
A14: Transformation | B14: =B15 -> 925065.18 | C14: =C15 -> 35695 | D14: =D15 -> 0.287928 | E14: =E15 -> 0 | F14: =F15 -> 0 | G14: =G15 -> 1758.5616 | H14: =H15 -> 207.60882 | I14: =I15 -> 0 | ... P14: =P15 -> 0
A15: Electricity plants | B15: 925065.18 | C15: 35695 | D15: 0.287928 | E15: 0 | F15: 0 | G15: 1758.5616 | H15: 207.60882 | O15: 9082.5129
A16: Energy industry own use | B16: =SUM(B17:B20) -> 0.161 | C16: =SUM(C17:C20) -> 0 | D16: =SUM(D17:D20) -> 0 | E16: =SUM(E17:E20) -> 0 | F16: =SUM(F17:F20) -> 0 | G16: =SUM(G17:G20) -> 0 | H16: =SUM(H17:H20) -> 0 | I16: =SUM(I17:I20) -> 0 | ... P16: =SUM(P17:P20) -> 106650.46
A17: Oil and Gas extraction | O17: 5581.4764
A18: Petroleum refineries | O18: 5554.2614
A19: Own use in electricity, CHP and heat plants | B19: 0.161 | C19: 0 | P19: 106650.46
A20: Other energy sector
A21: Distribution losses | O21: 720.94631 | P21: 288884.97
A22: Final Consumption | B22: =B23+B37+B44+B49 -> 312633.82 | C22: =C23+C37+C44+C49 -> 6951 | D22: =D23+D37+D44+D49 -> 29663.328 | E22: =E23+E37+E44+E49 -> 13812.064 | F22: =F23+F37+F44+F49 -> 479.07529 | G22: =G23+G37+G44+G49 -> 88649.438 | H22: =H23+H37+H44+H49 -> 6312.7112 | I22: =I23+I37+I44+I49 -> 4087.2047 | ... O22: =O23+O37+O44+O49 -> 54172.104 | P22: =P23+P37+P44 -> 1540587 | AI22: Note:
A23: Industry Sector | B23: =SUM(B24:B36) -> 312628.76 | C23: =SUM(C24:C36) -> 6951 | D23: =SUM(D24:D36) -> 3139.8749 | E23: =SUM(E24:E36) -> 13812.064 | F23: =SUM(F24:F36) -> 0 | G23: =SUM(G24:G36) -> 7791.2113 | H23: =SUM(H24:H36) -> 1566.1606 | I23: =SUM(I24:I36) -> 0 | ... P23: =SUM(P24:P36) -> 640625.91 | AI23: Coal:
A24: Iron and steel | B24: 79009.406 | C24: 86 | D24: 0 | E24: 0 | F24: 0 | G24: 179.8 | H24: 557.142 | O24: 0 | P24: 172797.42 | AI24: 1. Total of Transformation + Industry Consumption = Total Consumption
A25: Chemical and petrochemical | B25: 33089.357 | C25: 140 | D25: 170.08279 | E25: 10424.311 | F25: 0 | G25: 100.9 | H25: 408.07819 | O25: 0 | P25: 98955.329 | AI25: 2. Sectors will be common for Coal and Lignite
A26: Non-ferrous metals | B26: 77879.227 | C26: 0 | D26: 66.687276 | E26: 0 | F26: 0 | G26: 19.5 | H26: 233.22488 | O26: 0 | P26: 36508.199
A27: Non-metallic minerals | B27: 71628.841 | C27: 569 | D27: 0 | E27: 0 | F27: 0 | G27: 540.1 | H27: 91.198822 | O27: 0 | P27: 59390.255
A28: Transport equipment | B28: 81.662901 | C28: 0 | P28: 30725.049
A29: Machinery | B29: 668.28072 | C29: 0 | D29: 15.765122 | E29: 0 | F29: 0 | G29: 96.3 | H29: 14.612023 | O29: 0 | P29: 44053.176
A30: Mining & Quarrying | B30: 94.075261 | C30: 0 | D30: 4.88158 | E30: 0 | F30: 0 | G30: 1338.8 | H30: 114.94386 | O30: 0 | P30: 163.86071
A31: Food, beverages and tobacco | B31: 10702.469 | C31: 0 | P31: 58138.899
A32: Paper, pulp and print | B32: 14619.866 | C32: 1039 | D32: 0 | E32: 0 | F32: 0 | G32: 0 | H32: 0 | O32: 0 | P32: 17271.037
A33: Wood and wood products | B33: 184.04363 | C33: 0 | P33: 2696.9488
A34: Construction | B34: 0 | C34: 0 | D34: 0 | E34: 0 | F34: 0 | G34: 412.7 | H34: 22.344369 | O34: 0 | P34: 0
A35: Textile and leather | B35: 19102.718 | C35: 994 | D35: 1.570159 | E35: 0 | F35: 0 | G35: 7 | H35: 18.711755 | O35: 0 | P35: 74162.741
A36: Non-specified | B36: 5568.8139 | C36: 4123 | D36: 2880.888 | E36: 3387.7529 | F36: 0 | G36: 5096.1113 | H36: 105.90467 | M36: 20318.538 | N36: 14696.073 | O36: 1457.4656 | P36: 45762.999
A37: Transport Sector | B37: =SUM(B38:B43) -> 0 | C37: =SUM(C38:C43) -> 0 | D37: =SUM(D38:D43) -> 89.451698 | E37: =SUM(E38:E43) -> 0 | F37: =SUM(F38:F43) -> 0 | G37: =SUM(G38:G43) -> 68377.826 | H37: =SUM(H38:H43) -> 1484.2241 | I37: =SUM(I38:I43) -> 0 | ... P37: =SUM(P38:P43) -> 33917.669
A38: Road | B38: 0 | C38: 0 | D38: 88.269008 | E38: 0 | F38: 0 | G38: 63850.608 | H38: 173.74473 | K38: 37219.362 | O38: 13491.563 | P38: 0
A39: Domestic Aviation | B39: 0 | C39: 0 | D39: 0 | E39: 0 | F39: 0 | G39: 1.2 | H39: 0 | O39: 0 | P39: 0
A40: Rail | B40: 0 | C40: 0 | D40: 1.18269 | E40: 0 | F40: 0 | G40: 3119.8371 | H40: 0.087796496 | O40: 0 | P40: 33917.669
A41: Pipeline transport | B41: 0 | C41: 0 | D41: 0 | E41: 0 | F41: 0 | G41: 0 | H41: 0 | O41: 1922.1164 | P41: 0
A42: Domestic navigation | B42: 0 | C42: 0 | D42: 0 | E42: 0 | F42: 0 | G42: 1406.1808 | H42: 1310.3916 | L42: 8247.0379 | O42: 0 | P42: 0
A43: Non-specified | B43: 0 | C43: 0 | D43: 0 | E43: 0 | F43: 0 | G43: 0 | H43: 0 | O43: 0 | P43: 0
A44: Other Sectors | B44: =SUM(B45:B48) -> 5.0601916 | C44: =SUM(C45:C48) -> 0 | D44: =SUM(D45:D48) -> 26434.002 | E44: =SUM(E45:E48) -> 0 | F44: =SUM(F45:F48) -> 479.07529 | G44: =SUM(G45:G48) -> 12480.401 | H44: =SUM(H45:H48) -> 3262.3265 | I44: =SUM(I45:I48) -> 4087.2047 | ... P44: =SUM(P45:P48) -> 866043.41
A45: Residential | B45: 0 | C45: 0 | D45: 26207.424 | E45: 0 | F45: 298.42726 | G45: 0 | H45: 0 | O45: 0 | P45: 369059.5
A46: Comm. And public services | B46: 0 | C46: 0 | D46: 0 | E46: 0 | F46: 62.241972 | G46: 0 | H46: 0 | O46: 0 | P46: 128623.2
A47: Agriculture/forestry | B47: 5.0601916 | C47: 0 | D47: 26.499567 | E47: 0 | F47: 0 | G47: 4222.8848 | H47: 34.591252 | O47: 141.74113 | P47: 275484.96
A48: Non-specified | B48: 0 | C48: 0 | D48: 200.0784 | E48: 0 | F48: 118.40606 | G48: 8257.5166 | H48: 3227.7352 | I48: 4087.2047 | J48: 8807.2479 | O48: 10971.063 | P48: 92875.754
A49: Non-Energy Use | O49: 26188.156
A50: Statistical Difference is defined as final consumption + use for transformation processes and consumption by energy industry own use + losses - domestic supply
A51: Final consumption = Total Consumption in Transport + Total Industrial Consumption+Consumption by Other sectors+Non energy Use
A52: * Incluse Paraffin waxes, petroleum jelly, LSWR, MTBE and reformate, BGO, Benzene, MTO, CBFS and Sulfur etc.
A53: # Import Non-cooking coal to power sectore has been sifted from Industry Sector to Electricity Plants.

Sheet 7.2_FY-2023-24(F)
A1: Table-7.2 : Energy Balance of India for 2023-24 ( Final )
J2: All figures in KToE
B3: Coal | C3: Lignite | D3: Crude Oil | E3: Oil Products | F3: Natural Gas | G3: Nuclear | H3: Large Hydro | I3: Solar, Wind, Others | J3: Electricity | K3: Total
A4: Production | B4: 403796.84 | C4: 9786.0864 | D4: 30002.268 | E4: 0 | F4: 33704.728 | G4: 12492.78 | H4: 11552.164 | I4: 20170.064 | J4: 0 | K4: 521504.93
A5: Imports | B5: 141641.93 | C5: 11.88278 | D5: 239414.8 | E5: 48202.818 | F5: 29410.301 | G5: 0 | H5: 0 | I5: 0 | J5: 528.66204 | K5: 459210.39
A6: Exports | B6: -1040.8735 | C6: -0.368928 | D6: 0 | E6: -65333.323 | F6: 0 | G6: 0 | H6: 0 | I6: 0 | J6: -971.38615 | K6: -67345.952
A7: International marine bunkers | E7: 897.35784 | K7: 897.35784
A8: International aviation bunkers | E8: 2191.2248 | K8: 2191.2248
A9: Stock changes | B9: -10299.049 | C9: -74.55675 | D9: 0 | E9: 0 | F9: 0 | G9: 0 | H9: 0 | I9: 0 | J9: 0 | K9: -10373.606
A10: Total primary energy supply | B10: =SUM(B4:B9) -> 534098.84 | C10: =SUM(C4:C9) -> 9723.0435 | D10: =SUM(D4:D9) -> 269417.07 | E10: =SUM(E4:E9) -> -14041.923 | F10: =SUM(F4:F9) -> 63115.029 | G10: =SUM(G4:G9) -> 12492.78 | H10: =SUM(H4:H9) -> 11552.164 | I10: =SUM(I4:I9) -> 20170.064 | J10: =SUM(J4:J9) -> -442.72411 | K10: =SUM(B10:J10) -> 906084.34
A11: Statistical differences | B11: 8214.2769 | C11: 0.34226747 | D11: 25117.279 | E11: -28648.366 | F11: 6362.3087 | G11: 0 | H11: 4.5830006e-13 | I11: 1.8189894e-12 | J11: -1462.6371 | K11: 9583.2031
A12: Main activity producer electricity plants | B12: -376274.48 | C12: -8138.5418 | D12: 0 | E12: -2024.9574 | F12: -8401.2499 | G12: -12492.78 | H12: -11528.637 | I12: -19421.795 | J12: 149156.26 | K12: -289126.19
A13: Autoproducer electricity plants | B13: 0 | C13: 0 | D13: 0 | E13: 0 | F13: 0 | G13: 0 | H13: -23.52702 | I13: -748.26966 | J13: 19255.631 | K13: 18483.835
A14: Oil refineries | B14: 0 | C14: 0 | D14: -267298.88 | E14: 282097.24 | F14: 0 | G14: 0 | H14: 0 | I14: 0 | J14: 0 | K14: 14798.359
A15: Energy industry own use | B15: -0.065487484 | C15: 0 | D15: 0 | E15: 0 | F15: -10300.466 | G15: 0 | H15: 0 | I15: 0 | J15: -9171.9391 | K15: -19472.471
A16: Losses | B16: 0 | C16: 0 | D16: -27235.464 | E16: 0 | F16: -666.86943 | G16: 0 | H16: 0 | I16: 0 | J16: -24844.107 | K16: -52746.441
A17: Final consumption | B17: =SUM(B18,B32,B39,B44) -> 166038.57 | C17: =SUM(C18,C32,C39,C44) -> 1584.8439 | D17: =SUM(D18,D32,D39,D44) -> 0 | E17: =SUM(E18,E32,E39,E44) -> 237381.99 | F17: =SUM(F18,F32,F39,F44) -> 50110.031 | G17: =SUM(G18,G32,G39,G44) -> 0 | H17: =SUM(H18,H32,H39,H44) -> 0 | I17: =SUM(I18,I32,I39,I44) -> 0 | ... K17: =SUM(K18,K32,K39,K44) -> 587605.92
A18: Industry | B18: =SUM(B19:B31) -> 166036.43 | C18: =SUM(C19:C31) -> 1584.8439 | D18: =SUM(D19:D31) -> 0 | E18: =SUM(E19:E31) -> 57636.961 | F18: =SUM(F19:F31) -> 1348.1437 | G18: =SUM(G19:G31) -> 0 | H18: =SUM(H19:H31) -> 0 | I18: =SUM(I19:I31) -> 0 | ... K18: =SUM(K19:K31) -> 281700.2
A19: Iron and steel | B19: 41961.716 | C19: 19.608197 | D19: 0 | E19: 734.8808 | F19: 0 | G19: 0 | H19: 0 | I19: 0 | J19: 14860.578 | K19: 57576.784
A20: Chemical and petrochemical | B20: 17573.682 | C20: 31.920321 | D20: 0 | E20: 11902.657 | F20: 0 | G20: 0 | H20: 0 | I20: 0 | J20: 8510.1583 | K20: 38018.418
A21: Non-ferrous metals | B21: 41361.481 | C21: 0 | D21: 0 | E21: 325.24876 | F21: 0 | G21: 0 | H21: 0 | I21: 0 | J21: 3139.7051 | K21: 44826.435
A22: Non-metallic minerals | B22: 38041.915 | C22: 129.7333 | D22: 0 | E22: 648.84238 | F22: 0 | G22: 0 | H22: 0 | I22: 0 | J22: 5107.562 | K22: 43928.053
A23: Transport equipment | B23: 43.370982 | C23: 0 | D23: 0 | E23: 0 | F23: 0 | G23: 0 | H23: 0 | I23: 0 | J23: 2642.3542 | K23: 2685.7252
A24: Machinery | B24: 354.92238 | C24: 0 | D24: 0 | E24: 131.87528 | F24: 0 | G24: 0 | H24: 0 | I24: 0 | J24: 3788.5731 | K24: 4275.3708
A25: Mining and quarrying | B25: 49.963158 | C25: 0 | D25: 0 | E25: 1504.4125 | F25: 0 | G25: 0 | H25: 0 | I25: 0 | J25: 14.092021 | K25: 1568.4677
A26: Food, beverages and tobacco | B26: 5684.0571 | C26: 0 | D26: 0 | E26: 0 | F26: 0 | G26: 0 | H26: 0 | I26: 0 | J26: 4999.9453 | K26: 10684.002
A27: Paper, pulp and print | B27: 7764.5777 | C27: 236.89438 | D27: 0 | E27: 0 | F27: 0 | G27: 0 | H27: 0 | I27: 0 | J27: 1485.3092 | K27: 9486.7813
A28: Wood and wood products | B28: 97.745153 | C28: 0 | D28: 0 | E28: 0 | F28: 0 | G28: 0 | H28: 0 | I28: 0 | J28: 231.9376 | K28: 329.68275
A29: Construction | B29: 0 | C29: 0 | D29: 0 | E29: 449.15983 | F29: 0 | G29: 0 | H29: 0 | I29: 0 | J29: 0 | K29: 449.15983
A30: Textile and leather | B30: 10145.41 | C30: 226.63428 | D30: 0 | E30: 27.450065 | F30: 0 | G30: 0 | H30: 0 | I30: 0 | J30: 6377.9957 | K30: 16777.49
A31: Non-specified (industry) | B31: 2957.5845 | C31: 940.05345 | D31: 0 | E31: 41912.434 | F31: 1348.1437 | G31: 0 | H31: 0 | I31: 0 | J31: 3935.6179 | K31: 51093.833
A32: Transport | B32: =SUM(B33:B38) -> 0 | C32: =SUM(C33:C38) -> 0 | D32: =SUM(D33:D38) -> 0 | E32: =SUM(E33:E38) -> 120945.99 | F32: =SUM(F33:F38) -> 14258.806 | G32: =SUM(G33:G38) -> 0 | H32: =SUM(H33:H38) -> 0 | I32: =SUM(I33:I38) -> 0 | ... K32: =SUM(K33:K38) -> 138121.72
A33: Road | B33: 0 | C33: 0 | D33: 0 | E33: 106183 | F33: 12479.333 | G33: 0 | H33: 0 | I33: 0 | J33: 0 | K33: 118662.34
A34: Domestic aviation | B34: 0 | C34: 0 | D34: 0 | E34: 8786.4214 | F34: 0 | G34: 0 | H34: 0 | I34: 0 | J34: 0 | K34: 8786.4214
A35: Rail | B35: 0 | C35: 0 | D35: 0 | E35: 3230.4137 | F35: 0 | G35: 0 | H35: 0 | I35: 0 | J35: 2916.9196 | K35: 6147.3333
A36: Pipeline transport | B36: 0 | C36: 0 | D36: 0 | E36: 0 | F36: 1779.4731 | G36: 0 | H36: 0 | I36: 0 | J36: 0 | K36: 1779.4731
A37: Domestic navigation | B37: 0 | C37: 0 | D37: 0 | E37: 2746.1543 | F37: 0 | G37: 0 | H37: 0 | I37: 0 | J37: 0 | K37: 2746.1543
A38: Non-specified (transport) | B38: 0 | C38: 0 | D38: 0 | E38: 0 | F38: 0 | G38: 0 | H38: 0 | I38: 0 | J38: 0 | K38: 0
A39: Other | B39: =SUM(B40:B43) -> 2.1420124 | C39: =SUM(C40:C43) -> 0 | D39: =SUM(D40:D43) -> 0 | E39: =SUM(E40:E43) -> 58799.038 | F39: =SUM(F40:F43) -> 10279.253 | G39: =SUM(G40:G43) -> 0 | H39: =SUM(H40:H43) -> 0 | I39: =SUM(I40:I43) -> 0 | ... K39: =SUM(K40:K43) -> 143560.17
A40: Residential | B40: 0 | C40: 0 | D40: 0 | E40: 29919.46 | F40: 0 | G40: 0 | H40: 0 | I40: 0 | J40: 31739.117 | K40: 61658.576
A41: Commercial and public services | B41: 0 | C41: 0 | D41: 0 | E41: 65.042771 | F41: 0 | G41: 0 | H41: 0 | I41: 0 | J41: 11061.595 | K41: 11126.638
A42: Agriculture/forestry | B42: 2.1420124 | C42: 0 | D42: 0 | E42: 4434.7584 | F42: 131.10938 | G42: 0 | H42: 0 | I42: 0 | J42: 23691.706 | K42: 28259.716
A43: Non-specified (other) | B43: 0 | C43: 0 | D43: 0 | E43: 24379.777 | F43: 10148.143 | G43: 0 | H43: 0 | I43: 0 | J43: 7987.3149 | K43: 42515.235
A44: Non-energy use | B44: =SUM(B45:B47) -> 0 | C44: =SUM(C45:C47) -> 0 | D44: =SUM(D45:D47) -> 0 | E44: =SUM(E45:E47) -> 0 | F44: =SUM(F45:F47) -> 24223.829 | G44: =SUM(G45:G47) -> 0 | H44: =SUM(H45:H47) -> 0 | I44: =SUM(I45:I47) -> 0 | ... K44: =SUM(K45:K47) -> 24223.829
A45: Non-energy use industry/transformation/energy | B45: 0 | C45: 0 | D45: 0 | E45: 0 | F45: 24223.829 | G45: 0 | H45: 0 | I45: 0 | J45: 0 | K45: 24223.829
A46: Non-energy use in transport | B46: 0 | C46: 0 | D46: 0 | E46: 0 | F46: 0 | G46: 0 | H46: 0 | I46: 0 | J46: 0 | K46: 0
A47: Non-energy use in other | B47: 0 | C47: 0 | D47: 0 | E47: 0 | F47: 0 | G47: 0 | H47: 0 | I47: 0 | J47: 0 | K47: 0
A48: Elect. output in GWh | B48: =SUM(B49:B50) -> 0 | C48: =SUM(C49:C50) -> 0 | D48: =SUM(D49:D50) -> 0 | E48: =SUM(E49:E50) -> 0 | F48: =SUM(F49:F50) -> 0 | G48: =SUM(G49:G50) -> 47937.41 | H48: =SUM(H49:H50) -> 134327.49 | I48: =SUM(I49:I50) -> 234535.63 | ... K48: =SUM(K49:K50) -> 416800.53
A49: Elec output-main activity producer ele plants | B49: 0 | C49: 0 | D49: 0 | E49: 0 | F49: 0 | G49: 47937.41 | H49: 134053.92 | I49: 225834.82 | J49: 0 | K49: 407826.15
A50: Elec output-autoproducer electricity plants | B50: 0 | C50: 0 | D50: 0 | E50: 0 | F50: 0 | G50: 0 | H50: 273.57 | I50: 8700.81 | J50: 0 | K50: 8974.38
A51: Final consumption refers to End Use Consumption

Sheet 7.3_FY-2023-24(F)_PJ
A1: Table-7.3 : Energy Balance of India for 2023-24 ( Final )
A2: All figures in Peta Joule
B3: Coal | C3: Lignite | D3: Crude Oil | E3: Oil Products | F3: Natural Gas | G3: Nuclear | H3: Large Hydro | I3: Solar, Wind, Others | J3: Electricity | K3: Total | L3: =41868/1000000 -> 0.041868
A4: Production | B4: 16906.166 | C4: 409.72387 | D4: 1256.135 | E4: 0 | F4: 1411.1496 | G4: 523.0477 | H4: 483.66601 | I4: 844.48025 | J4: 0 | K4: 21834.368 | L4: Note: 1 KToE= 0.41868 PJ
A5: Imports | B5: 5930.2642 | C5: 0.49750822 | D5: 10023.819 | E5: 2018.1556 | F5: 1231.3505 | G5: 0 | H5: 0 | I5: 0 | J5: 22.134022 | K5: 19226.22
A6: Exports | B6: -43.579292 | C6: -0.015446278 | D6: 0 | E6: -2735.3756 | F6: 0 | G6: 0 | H6: 0 | I6: 0 | J6: -40.669995 | K6: -2819.6403
A7: International marine bunkers | E7: 37.570578
A8: International aviation bunkers | E8: 91.7422
A9: Stock changes | B9: -431.20059 | C9: -3.121542 | D9: 0 | E9: 0 | F9: 0 | G9: 0 | H9: 0 | I9: 0 | J9: 0 | K9: -434.32213
A10: Total primary energy supply | B10: ='[3]7.2_FY-2023-24(F)'!B10*'7.3_FY-2023-24(F)_PJ'!$L$3 -> 22361.65 | C10: ='[3]7.2_FY-2023-24(F)'!C10*'7.3_FY-2023-24(F)_PJ'!$L$3 -> 407.08439 | D10: ='[3]7.2_FY-2023-24(F)'!D10*'7.3_FY-2023-24(F)_PJ'!$L$3 -> 11279.954 | E10: ='[3]7.2_FY-2023-24(F)'!E10*'7.3_FY-2023-24(F)_PJ'!$L$3 -> -587.90722 | F10: ='[3]7.2_FY-2023-24(F)'!F10*'7.3_FY-2023-24(F)_PJ'!$L$3 -> 2642.5 | G10: ='[3]7.2_FY-2023-24(F)'!G10*'7.3_FY-2023-24(F)_PJ'!$L$3 -> 523.0477 | H10: ='[3]7.2_FY-2023-24(F)'!H10*'7.3_FY-2023-24(F)_PJ'!$L$3 -> 483.66601 | I10: ='[3]7.2_FY-2023-24(F)'!I10*'7.3_FY-2023-24(F)_PJ'!$L$3 -> 844.48025 | ... K10: ='[3]7.2_FY-2023-24(F)'!K10*'7.3_FY-2023-24(F)_PJ'!$L$3 -> 37935.939
A11: Statistical differences | B11: 343.91535 | C11: 0.014330054 | D11: 1051.6102 | E11: -1199.4498 | F11: 266.37714 | G11: 0 | H11: 1.9188107e-14 | I11: 7.6157448e-14 | J11: -61.237689 | K11: 401.22955
A12: Main activity producer electricity plants | B12: -15753.86 | C12: -340.74447 | D12: 0 | E12: -84.780915 | F12: -351.74353 | G12: -523.0477 | H12: -482.68098 | I12: -813.1517 | J12: 6244.8742 | K12: -12105.135
A13: Autoproducer electricity plants | B13: 0 | C13: 0 | D13: 0 | E13: 0 | F13: 0 | G13: 0 | H13: -0.98502927 | I13: -31.328554 | J13: 806.19477 | K13: 773.88119
A14: Oil refineries | B14: 0 | C14: 0 | D14: -11191.27 | E14: 11810.847 | F14: 0 | G14: 0 | H14: 0 | I14: 0 | J14: 0 | K14: 619.5777
A15: Energy industry own use | B15: -0.00274183 | C15: 0 | D15: 0 | E15: 0 | F15: -431.25991 | G15: 0 | H15: 0 | I15: 0 | J15: -384.01075 | K15: -815.2734
A16: Losses | B16: 0 | C16: 0 | D16: -1140.2944 | E16: 0 | F16: -27.920489 | G16: 0 | H16: 0 | I16: 0 | J16: -1040.1731 | K16: -2208.388
A17: Final consumption | B17: ='[3]7.2_FY-2023-24(F)'!B17*'7.3_FY-2023-24(F)_PJ'!$L$3 -> 6951.7028 | C17: ='[3]7.2_FY-2023-24(F)'!C17*'7.3_FY-2023-24(F)_PJ'!$L$3 -> 66.354246 | D17: ='[3]7.2_FY-2023-24(F)'!D17*'7.3_FY-2023-24(F)_PJ'!$L$3 -> 0 | E17: ='[3]7.2_FY-2023-24(F)'!E17*'7.3_FY-2023-24(F)_PJ'!$L$3 -> 9938.7093 | F17: ='[3]7.2_FY-2023-24(F)'!F17*'7.3_FY-2023-24(F)_PJ'!$L$3 -> 2098.0068 | G17: ='[3]7.2_FY-2023-24(F)'!G17*'7.3_FY-2023-24(F)_PJ'!$L$3 -> 0 | H17: ='[3]7.2_FY-2023-24(F)'!H17*'7.3_FY-2023-24(F)_PJ'!$L$3 -> 0 | I17: ='[3]7.2_FY-2023-24(F)'!I17*'7.3_FY-2023-24(F)_PJ'!$L$3 -> 0 | ... K17: ='[3]7.2_FY-2023-24(F)'!K17*'7.3_FY-2023-24(F)_PJ'!$L$3 -> 24601.885
A18: Industry | B18: ='[3]7.2_FY-2023-24(F)'!B18*'7.3_FY-2023-24(F)_PJ'!$L$3 -> 6951.6131 | C18: ='[3]7.2_FY-2023-24(F)'!C18*'7.3_FY-2023-24(F)_PJ'!$L$3 -> 66.354246 | D18: ='[3]7.2_FY-2023-24(F)'!D18*'7.3_FY-2023-24(F)_PJ'!$L$3 -> 0 | E18: ='[3]7.2_FY-2023-24(F)'!E18*'7.3_FY-2023-24(F)_PJ'!$L$3 -> 2413.1443 | F18: ='[3]7.2_FY-2023-24(F)'!F18*'7.3_FY-2023-24(F)_PJ'!$L$3 -> 56.444082 | G18: ='[3]7.2_FY-2023-24(F)'!G18*'7.3_FY-2023-24(F)_PJ'!$L$3 -> 0 | H18: ='[3]7.2_FY-2023-24(F)'!H18*'7.3_FY-2023-24(F)_PJ'!$L$3 -> 0 | I18: ='[3]7.2_FY-2023-24(F)'!I18*'7.3_FY-2023-24(F)_PJ'!$L$3 -> 0 | ... K18: ='[3]7.2_FY-2023-24(F)'!K18*'7.3_FY-2023-24(F)_PJ'!$L$3 -> 11794.224
A19: Iron and steel | B19: 1756.8531 | C19: 0.820956 | D19: 0 | E19: 30.767989 | F19: 0 | G19: 0 | H19: 0 | I19: 0 | J19: 622.18269 | K19: 2410.6248
A20: Chemical and petrochemical | B20: 735.77493 | C20: 1.33644 | D20: 0 | E20: 498.34046 | F20: 0 | G20: 0 | H20: 0 | I20: 0 | J20: 356.30331 | K20: 1591.7551
A21: Non-ferrous metals | B21: 1731.7225 | C21: 0 | D21: 0 | E21: 13.617515 | F21: 0 | G21: 0 | H21: 0 | I21: 0 | J21: 131.45317 | K21: 1876.7932
A22: Non-metallic minerals | B22: 1592.7389 | C22: 5.431674 | D22: 0 | E22: 27.165733 | F22: 0 | G22: 0 | H22: 0 | I22: 0 | J22: 213.8434 | K22: 1839.1797
A23: Transport equipment | B23: 1.8158563 | C23: 0 | D23: 0 | E23: 0 | F23: 0 | G23: 0 | H23: 0 | I23: 0 | J23: 110.63009 | K23: 112.44594
A24: Machinery | B24: 14.85989 | C24: 0 | D24: 0 | E24: 5.5213543 | F24: 0 | G24: 0 | H24: 0 | I24: 0 | J24: 158.61998 | K24: 179.00122
A25: Mining and quarrying | B25: 2.0918575 | C25: 0 | D25: 0 | E25: 62.986743 | F25: 0 | G25: 0 | H25: 0 | I25: 0 | J25: 0.59000472 | K25: 65.668605
A26: Food, beverages and tobacco | B26: 237.9801 | C26: 0 | D26: 0 | E26: 0 | F26: 0 | G26: 0 | H26: 0 | I26: 0 | J26: 209.33771 | K26: 447.31781
A27: Paper, pulp and print | B27: 325.08734 | C27: 9.918294 | D27: 0 | E27: 0 | F27: 0 | G27: 0 | H27: 0 | I27: 0 | J27: 62.186924 | K27: 397.19256
A28: Wood and wood products | B28: 4.0923941 | C28: 0 | D28: 0 | E28: 0 | F28: 0 | G28: 0 | H28: 0 | I28: 0 | J28: 9.7107634 | K28: 13.803157
A29: Construction | B29: 0 | C29: 0 | D29: 0 | E29: 18.805424 | F29: 0 | G29: 0 | H29: 0 | I29: 0 | J29: 0 | K29: 18.805424
A30: Textile and leather | B30: 424.76804 | C30: 9.488724 | D30: 0 | E30: 1.1492793 | F30: 0 | G30: 0 | H30: 0 | I30: 0 | J30: 267.03392 | K30: 702.43997
A31: Non-specified (industry) | B31: 123.82815 | C31: 39.358158 | D31: 0 | E31: 1754.7898 | F31: 56.444082 | G31: 0 | H31: 0 | I31: 0 | J31: 164.77645 | K31: 2139.1966
A32: Transport | B32: ='[3]7.2_FY-2023-24(F)'!B32*'7.3_FY-2023-24(F)_PJ'!$L$3 -> 0 | C32: ='[3]7.2_FY-2023-24(F)'!C32*'7.3_FY-2023-24(F)_PJ'!$L$3 -> 0 | D32: ='[3]7.2_FY-2023-24(F)'!D32*'7.3_FY-2023-24(F)_PJ'!$L$3 -> 0 | E32: ='[3]7.2_FY-2023-24(F)'!E32*'7.3_FY-2023-24(F)_PJ'!$L$3 -> 5063.7669 | F32: ='[3]7.2_FY-2023-24(F)'!F32*'7.3_FY-2023-24(F)_PJ'!$L$3 -> 596.98769 | G32: ='[3]7.2_FY-2023-24(F)'!G32*'7.3_FY-2023-24(F)_PJ'!$L$3 -> 0 | H32: ='[3]7.2_FY-2023-24(F)'!H32*'7.3_FY-2023-24(F)_PJ'!$L$3 -> 0 | I32: ='[3]7.2_FY-2023-24(F)'!I32*'7.3_FY-2023-24(F)_PJ'!$L$3 -> 0 | ... K32: ='[3]7.2_FY-2023-24(F)'!K32*'7.3_FY-2023-24(F)_PJ'!$L$3 -> 5782.8801
A33: Road | B33: 0 | C33: 0 | D33: 0 | E33: 4445.67 | F33: 522.48471 | G33: 0 | H33: 0 | I33: 0 | J33: 0 | K33: 4968.1547
A34: Domestic aviation | B34: 0 | C34: 0 | D34: 0 | E34: 367.86989 | F34: 0 | G34: 0 | H34: 0 | I34: 0 | J34: 0 | K34: 367.86989
A35: Rail | B35: 0 | C35: 0 | D35: 0 | E35: 135.25096 | F35: 0 | G35: 0 | H35: 0 | I35: 0 | J35: 122.12559 | K35: 257.37655
A36: Pipeline transport | B36: 0 | C36: 0 | D36: 0 | E36: 0 | F36: 74.502982 | G36: 0 | H36: 0 | I36: 0 | J36: 0 | K36: 74.502982
A37: Domestic navigation | B37: 0 | C37: 0 | D37: 0 | E37: 114.97599 | F37: 0 | G37: 0 | H37: 0 | I37: 0 | J37: 0 | K37: 114.97599
A38: Non-specified (transport) | B38: 0 | C38: 0 | D38: 0 | E38: 0 | F38: 0 | G38: 0 | H38: 0 | I38: 0 | J38: 0 | K38: 0
A39: Other | B39: ='[3]7.2_FY-2023-24(F)'!B39*'7.3_FY-2023-24(F)_PJ'!$L$3 -> 0.089681776 | C39: ='[3]7.2_FY-2023-24(F)'!C39*'7.3_FY-2023-24(F)_PJ'!$L$3 -> 0 | D39: ='[3]7.2_FY-2023-24(F)'!D39*'7.3_FY-2023-24(F)_PJ'!$L$3 -> 0 | E39: ='[3]7.2_FY-2023-24(F)'!E39*'7.3_FY-2023-24(F)_PJ'!$L$3 -> 2461.7981 | F39: ='[3]7.2_FY-2023-24(F)'!F39*'7.3_FY-2023-24(F)_PJ'!$L$3 -> 430.37175 | G39: ='[3]7.2_FY-2023-24(F)'!G39*'7.3_FY-2023-24(F)_PJ'!$L$3 -> 0 | H39: ='[3]7.2_FY-2023-24(F)'!H39*'7.3_FY-2023-24(F)_PJ'!$L$3 -> 0 | I39: ='[3]7.2_FY-2023-24(F)'!I39*'7.3_FY-2023-24(F)_PJ'!$L$3 -> 0 | ... K39: ='[3]7.2_FY-2023-24(F)'!K39*'7.3_FY-2023-24(F)_PJ'!$L$3 -> 6010.577
A40: Residential | B40: 0 | C40: 0 | D40: 0 | E40: 1252.6679 | F40: 0 | G40: 0 | H40: 0 | I40: 0 | J40: 1328.8533 | K40: 2581.5213
A41: Commercial and public services | B41: 0 | C41: 0 | D41: 0 | E41: 2.7232107 | F41: 0 | G41: 0 | H41: 0 | I41: 0 | J41: 463.12687 | K41: 465.85008
A42: Agriculture/forestry | B42: 0.089681776 | C42: 0 | D42: 0 | E42: 185.67446 | F42: 5.4892877 | G42: 0 | H42: 0 | I42: 0 | J42: 991.92435 | K42: 1183.1778
A43: Non-specified (other) | B43: 0 | C43: 0 | D43: 0 | E43: 1020.7325 | F43: 424.88246 | G43: 0 | H43: 0 | I43: 0 | J43: 334.4129 | K43: 1780.0279
A44: Non-energy use | B44: ='[3]7.2_FY-2023-24(F)'!B44*'7.3_FY-2023-24(F)_PJ'!$L$3 -> 0 | C44: ='[3]7.2_FY-2023-24(F)'!C44*'7.3_FY-2023-24(F)_PJ'!$L$3 -> 0 | D44: ='[3]7.2_FY-2023-24(F)'!D44*'7.3_FY-2023-24(F)_PJ'!$L$3 -> 0 | E44: ='[3]7.2_FY-2023-24(F)'!E44*'7.3_FY-2023-24(F)_PJ'!$L$3 -> 0 | F44: ='[3]7.2_FY-2023-24(F)'!F44*'7.3_FY-2023-24(F)_PJ'!$L$3 -> 1014.2033 | G44: ='[3]7.2_FY-2023-24(F)'!G44*'7.3_FY-2023-24(F)_PJ'!$L$3 -> 0 | H44: ='[3]7.2_FY-2023-24(F)'!H44*'7.3_FY-2023-24(F)_PJ'!$L$3 -> 0 | I44: ='[3]7.2_FY-2023-24(F)'!I44*'7.3_FY-2023-24(F)_PJ'!$L$3 -> 0 | ... K44: ='[3]7.2_FY-2023-24(F)'!K44*'7.3_FY-2023-24(F)_PJ'!$L$3 -> 1014.2033
A45: Non-energy use industry/transformation/energy | B45: 0 | C45: 0 | D45: 0 | E45: 0 | F45: 1014.2033 | G45: 0 | H45: 0 | I45: 0 | J45: 0 | K45: 1014.2033
A46: Non-energy use in transport | B46: 0 | C46: 0 | D46: 0 | E46: 0 | F46: 0 | G46: 0 | H46: 0 | I46: 0 | J46: 0 | K46: 0
A47: Non-energy use in other | B47: 0 | C47: 0 | D47: 0 | E47: 0 | F47: 0 | G47: 0 | H47: 0 | I47: 0 | J47: 0 | K47: 0
A48: Elect. output in GWh | B48: =SUM(B49:B50) -> 0 | C48: =SUM(C49:C50) -> 0 | D48: =SUM(D49:D50) -> 0 | E48: =SUM(E49:E50) -> 0 | F48: =SUM(F49:F50) -> 0 | G48: =SUM(G49:G50) -> 47937.41 | H48: =SUM(H49:H50) -> 134327.49 | I48: =SUM(I49:I50) -> 234535.63 | ... K48: =SUM(K49:K50) -> 416800.53
A49: Elec output-main activity producer ele plants | B49: 0 | C49: 0 | D49: 0 | E49: 0 | F49: 0 | G49: 47937.41 | H49: 134053.92 | I49: 225834.82 | J49: 0 | K49: 407826.15
A50: Elec output-autoproducer electricity plants | B50: 0 | C50: 0 | D50: 0 | E50: 0 | F50: 0 | G50: 0 | H50: 273.57 | I50: 8700.81 | J50: 0 | K50: 8974.38
A51: Final consumption refers to End Use Consumption

Sheet 7.4_FY-2023-24(F) 
A1: Table 7.4: Energy Balance of Petroleum Products for 2023-24( Final )
L2: All figures in KToE
B3: LPG | C3: Naphtha | D3: Kerosene | E3: Diesel (HSD+ LDO) | F3: Fuel Oil | G3: Lubricants | H3: Bitumin | I3: Petrol/Motor Spirit | J3: ATF | K3: Petroleum Coke | L3: Other Petroleum Products* | M3: Petroleum Products Total
A4: Production | B4: 14434.633 | C4: 19641.099 | D4: 1027.3506 | E4: 120682.86 | F4: 10285.593 | G4: 1355.8481 | H4: 4881.0304 | I4: 48237.534 | J4: 18241.471 | K4: 11506.014 | L4: 31803.802 | M4: 282097.24
A5: Imports | B5: 20916.249 | C5: 1301.352 | D5: 0 | E5: 43.531585 | F5: 8916.854 | G5: 2420.0772 | H5: 3021.4262 | I5: 767.64034 | J5: 0.0025033438 | K5: 8373.5815 | L5: 2442.1029 | M5: 48202.818
A6: Exports | B6: -593.54563 | C6: -5669.8943 | D6: -11.381079 | E6: -29192.071 | F6: -2071.4128 | G6: -14.854973 | H6: -16.361497 | I6: -14415.95 | J6: -9139.2012 | K6: -21.018439 | L6: -4187.6322 | M6: -65333.323
A7: International marine bunkers | E7: 897.35784 | M7: 897.35784
A8: International aviation bunkers | J8: 2191.2248 | M8: 2191.2248
A9: Stock changes | B9: 0 | C9: 0 | D9: 0 | E9: 0 | F9: 0 | G9: 0 | H9: 0 | I9: 0 | J9: 0 | K9: 0 | L9: 0 | M9: 0
A10: Total primary energy supply | B10: =SUM(B4:B9) -> 34757.337 | C10: =SUM(C4:C9) -> 15272.557 | D10: =SUM(D4:D9) -> 1015.9695 | E10: =SUM(E4:E9) -> 92431.681 | F10: =SUM(F4:F9) -> 17131.034 | G10: =SUM(G4:G9) -> 3761.0704 | H10: =SUM(H4:H9) -> 7886.0951 | I10: =SUM(I4:I9) -> 34589.224 | ... M10: =SUM(M4:M9) -> 268055.32
A11: Statistical differences | B11: -1245.1309 | C11: -427.25999 | D11: -515.33648 | E11: 1141.9375 | F11: -10708.602 | G11: 339.02024 | H11: 317.84742 | I11: 5236.596 | J11: -2508.3179 | K11: -4328.9789 | L11: -15950.141 | M11: -28648.366
A12: Main activity producer electricity plants | B12: -0.32528409 | C12: 0 | D12: 0 | E12: -1820.1373 | F12: -204.49478 | G12: 0 | H12: 0 | I12: 0 | J12: 0 | K12: 0 | L12: 0 | M12: -2024.9574
A13: Autoproducer electricity plants | B13: 0 | C13: 0 | D13: 0 | E13: 0 | F13: 0 | G13: 0 | H13: 0 | I13: 0 | J13: 0 | K13: 0 | L13: 0 | M13: 0
A14: Oil refineries | B14: 14434.633 | C14: 19641.099 | D14: 1027.3506 | E14: 120682.86 | F14: 10285.593 | G14: 1355.8481 | H14: 4881.0304 | I14: 48237.534 | J14: 18241.471 | K14: 11506.014 | L14: 31803.802 | M14: 282097.24
A15: Energy industry own use | B15: 0 | C15: 0 | D15: 0 | E15: 0 | F15: 0 | G15: 0 | H15: 0 | I15: 0 | J15: 0 | K15: 0 | L15: 0 | M15: 0
A16: Losses | B16: 0 | C16: 0 | D16: 0 | E16: 0 | F16: 0 | G16: 0 | H16: 0 | I16: 0 | J16: 0 | K16: 0 | L16: 0 | M16: 0
A17: Final consumption | B17: =SUM(B18,B32,B39,B44) -> 33511.881 | C17: =SUM(C18,C32,C39,C44) -> 14845.297 | D17: =SUM(D18,D32,D39,D44) -> 500.63299 | E17: =SUM(E18,E32,E39,E44) -> 91753.482 | F17: =SUM(F18,F32,F39,F44) -> 6217.937 | G17: =SUM(G18,G32,G39,G44) -> 4100.0906 | H17: =SUM(H18,H32,H39,H44) -> 8203.9425 | I17: =SUM(I18,I32,I39,I44) -> 39825.82 | ... M17: =SUM(M18,M32,M39,M44) -> 237381.99
A18: Industry | B18: =SUM(B19:B31) -> 3547.2457 | C18: =SUM(C19:C31) -> 14845.297 | D18: =SUM(D19:D31) -> 0 | E18: =SUM(E19:E31) -> 8064.0191 | F18: =SUM(F19:F31) -> 1542.6689 | G18: =SUM(G19:G31) -> 0 | H18: =SUM(H19:H31) -> 0 | I18: =SUM(I19:I31) -> 0 | ... M18: =SUM(M19:M31) -> 57636.961
A19: Iron and steel | B19: ='[3]Disaggregated Balance_1'!AB59 -> 0 | C19: ='[3]Disaggregated Balance_1'!AJ59 -> 0 | D19: ='[3]Disaggregated Balance_1'!AG59 -> 0 | E19: ='[3]Disaggregated Balance_1'!AH59 -> 186.09566 | F19: ='[3]Disaggregated Balance_1'!AI59 -> 548.78514 | G19: ='[3]Disaggregated Balance_1'!AL59 -> 0 | H19: ='[3]Disaggregated Balance_1'!AM59 -> 0 | I19: ='[3]Disaggregated Balance_1'!AC59 -> 0 | J19: ='[3]Disaggregated Balance_1'!AF59 -> 0 | K19: ='[3]Disaggregated Balance_1'!AO59 -> 0 | L19: ='[3]Disaggregated Balance_1'!AP59 -> 0 | M19: ='[3]Aggregated Balance_1'!E30 -> 734.8808
A20: Chemical and petrochemical | B20: 192.14952 | C20: 11204.118 | D20: 0 | E20: 104.43299 | F20: 401.95722 | G20: 0 | H20: 0 | I20: 0 | J20: 0 | K20: 0 | L20: 0 | M20: 11902.657
A21: Non-ferrous metals | B21: 75.339356 | C21: 0 | D21: 0 | E21: 20.182789 | F21: 229.72662 | G21: 0 | H21: 0 | I21: 0 | J21: 0 | K21: 0 | L21: 0 | M21: 325.24876
A22: Non-metallic minerals | B22: 0 | C22: 0 | D22: 0 | E22: 559.0115 | F22: 89.830883 | G22: 0 | H22: 0 | I22: 0 | J22: 0 | K22: 0 | L22: 0 | M22: 648.84238
A23: Transport equipment | B23: 0 | C23: 0 | D23: 0 | E23: 0 | F23: 0 | G23: 0 | H23: 0 | I23: 0 | J23: 0 | K23: 0 | L23: 0 | M23: 0
A24: Machinery | B24: 17.810506 | C24: 0 | D24: 0 | E24: 99.671926 | F24: 14.39285 | G24: 0 | H24: 0 | I24: 0 | J24: 0 | K24: 0 | L24: 0 | M24: 131.87528
A25: Mining and quarrying | B25: 5.5149215 | C25: 0 | D25: 0 | E25: 1385.6778 | F25: 113.21976 | G25: 0 | H25: 0 | I25: 0 | J25: 0 | K25: 0 | L25: 0 | M25: 1504.4125
A26: Food, beverages and tobacco | B26: 0 | C26: 0 | D26: 0 | E26: 0 | F26: 0 | G26: 0 | H26: 0 | I26: 0 | J26: 0 | K26: 0 | L26: 0 | M26: 0
A27: Paper, pulp and print | B27: 0 | C27: 0 | D27: 0 | E27: 0 | F27: 0 | G27: 0 | H27: 0 | I27: 0 | J27: 0 | K27: 0 | L27: 0 | M27: 0
A28: Wood and wood products | B28: 0 | C28: 0 | D28: 0 | E28: 0 | F28: 0 | G28: 0 | H28: 0 | I28: 0 | J28: 0 | K28: 0 | L28: 0 | M28: 0
A29: Construction | B29: 0 | C29: 0 | D29: 0 | E29: 427.15061 | F29: 22.009215 | G29: 0 | H29: 0 | I29: 0 | J29: 0 | K29: 0 | L29: 0 | M29: 449.15983
A30: Textile and leather | B30: 1.7738731 | C30: 0 | D30: 0 | E30: 7.2451037 | F30: 18.431088 | G30: 0 | H30: 0 | I30: 0 | J30: 0 | K30: 0 | L30: 0 | M30: 27.450065
A31: Non-specified (industry) | B31: 3254.6575 | C31: 3641.179 | D31: 0 | E31: 5274.5507 | F31: 104.31615 | G31: 0 | H31: 0 | I31: 0 | J31: 0 | K31: 15529.598 | L31: 14108.132 | M31: 41912.434
A32: Transport | B32: =SUM(B33:B38) -> 101.05726 | C32: =SUM(C33:C38) -> 0 | D32: =SUM(D33:D38) -> 0 | E32: =SUM(E33:E38) -> 70772.062 | F32: =SUM(F33:F38) -> 1461.875 | G32: =SUM(G33:G38) -> 0 | H32: =SUM(H33:H38) -> 0 | I32: =SUM(I33:I38) -> 39825.82 | ... M32: =SUM(M33:M38) -> 120945.99
A33: Road | B33: 99.721125 | C33: 0 | D33: 0 | E33: 66086.325 | F33: 171.13864 | G33: 0 | H33: 0 | I33: 39825.82 | J33: 0 | K33: 0 | L33: 0 | M33: 106183
A34: Domestic aviation | B34: 0 | C34: 0 | D34: 0 | E34: 1.2420178 | F34: 0 | G34: 0 | H34: 0 | I34: 0 | J34: 8785.1794 | K34: 0 | L34: 0 | M34: 8786.4214
A35: Rail | B35: 1.3361335 | C35: 0 | D35: 0 | E35: 3229.0776 | F35: 0 | G35: 0 | H35: 0 | I35: 0 | J35: 0 | K35: 0 | L35: 0 | M35: 3230.4137
A36: Pipeline transport | B36: 0 | C36: 0 | D36: 0 | E36: 0 | F36: 0 | G36: 0 | H36: 0 | I36: 0 | J36: 0 | K36: 0 | L36: 0 | M36: 0
A37: Domestic navigation | B37: 0 | C37: 0 | D37: 0 | E37: 1455.418 | F37: 1290.7363 | G37: 0 | H37: 0 | I37: 0 | J37: 0 | K37: 0 | L37: 0 | M37: 2746.1543
A38: Non-specified (transport) | B38: 0 | C38: 0 | D38: 0 | E38: 0 | F38: 0 | G38: 0 | H38: 0 | I38: 0 | J38: 0 | K38: 0 | L38: 0 | M38: 0
A39: Other | B39: =SUM(B40:B43) -> 29863.578 | C39: =SUM(C40:C43) -> 0 | D39: =SUM(D40:D43) -> 500.63299 | E39: =SUM(E40:E43) -> 12917.4 | F39: =SUM(F40:F43) -> 3213.3931 | G39: =SUM(G40:G43) -> 4100.0906 | H39: =SUM(H40:H43) -> 8203.9425 | I39: =SUM(I40:I43) -> 0 | ... M39: =SUM(M40:M43) -> 58799.038
A40: Residential | B40: 29607.604 | C40: 0 | D40: 311.85605 | E40: 0 | F40: 0 | G40: 0 | H40: 0 | I40: 0 | J40: 0 | K40: 0 | L40: 0 | M40: 29919.46
A41: Commercial and public services | B41: 0 | C41: 0 | D41: 65.042771 | E41: 0 | F41: 0 | G41: 0 | H41: 0 | I41: 0 | J41: 0 | K41: 0 | L41: 0 | M41: 65.042771
A42: Agriculture/forestry | B42: 29.93765 | C42: 0 | D42: 0 | E42: 4370.7483 | F42: 34.0724 | G42: 0 | H42: 0 | I42: 0 | J42: 0 | K42: 0 | L42: 0 | M42: 4434.7584
A43: Non-specified (other) | B43: 226.03679 | C43: 0 | D43: 123.73416 | E43: 8546.652 | F43: 3179.3207 | G43: 4100.0906 | H43: 8203.9425 | I43: 0 | J43: 0 | K43: 0 | L43: 0 | M43: 24379.777
A44: Non-energy use | B44: =SUM(B45:B47) -> 0 | C44: =SUM(C45:C47) -> 0 | D44: =SUM(D45:D47) -> 0 | E44: =SUM(E45:E47) -> 0 | F44: =SUM(F45:F47) -> 0 | G44: =SUM(G45:G47) -> 0 | H44: =SUM(H45:H47) -> 0 | I44: =SUM(I45:I47) -> 0 | ... M44: =SUM(M45:M47) -> 0
A45: Non-energy use industry/transformation/energy | B45: 0 | C45: 0 | D45: 0 | E45: 0 | F45: 0 | G45: 0 | H45: 0 | I45: 0 | J45: 0 | K45: 0 | L45: 0 | M45: 0
A46: Non-energy use in transport | B46: 0 | C46: 0 | D46: 0 | E46: 0 | F46: 0 | G46: 0 | H46: 0 | I46: 0 | J46: 0 | K46: 0 | L46: 0 | M46: 0
A47: Non-energy use in other | B47: 0 | C47: 0 | D47: 0 | E47: 0 | F47: 0 | G47: 0 | H47: 0 | I47: 0 | J47: 0 | K47: 0 | L47: 0 | M47: 0
A48: Elect. output in GWh | B48: =SUM(B49:B50) -> 0 | C48: =SUM(C49:C50) -> 0 | D48: =SUM(D49:D50) -> 0 | E48: =SUM(E49:E50) -> 0 | F48: =SUM(F49:F50) -> 0 | G48: =SUM(G49:G50) -> 0 | H48: =SUM(H49:H50) -> 0 | I48: =SUM(I49:I50) -> 0 | ... M48: =SUM(M49:M50) -> 0
A49: Elec output-main activity producer ele plants | B49: 0 | C49: 0 | D49: 0 | E49: 0 | F49: 0 | G49: 0 | H49: 0 | I49: 0 | J49: 0 | K49: 0 | L49: 0 | M49: 0
A50: Elec output-autoproducer electricity plants | B50: 0 | C50: 0 | D50: 0 | E50: 0 | F50: 0 | G50: 0 | H50: 0 | I50: 0 | J50: 0 | K50: 0 | L50: 0 | M50: 0
A51: Final consumption refers to End Use Consumption
A52: * Incluse Paraffin waxes, petroleum jelly, LSWR, MTBE and reformate, BGO, Benzene, MTO, CBFS and Sulfur etc.

Sheet 7.5_FY-2024-25(P)
A1: Table 7.5 : Energy Commodity Balance for 2024-25(P)
A2: Supply | B2: Coal | C2: Lignite | D2: LPG | E2: Naphtha | F2: Kerosene | G2: Diesel (HSD+ LDO) | H2: Fuel Oil | I2: Lubricants | J2: Bitumin | K2: Petrol/Motor Spirit | L2: ATF | M2: Petroleum Coke | N2: Other Petroleum Products* | O2: Natural Gas | P2: Electricity
B3: (000 tonnes) | O3: MMSCM | P3: (GWh)
A4: Production | B4: 1047522.6 | C4: 45133.498 | D4: 12787.802 | E4: 17924.407 | F4: 1008.4864 | G4: 118852.96 | H4: 10858.739 | I4: 1299.6822 | J4: 5303.3462 | K4: 48264.589 | L4: 17754.528 | M4: 14963.431 | N4: 34752.674 | O4: 36110 | P4: 1824213.7 | Q4: =O4*38.52 -> 1390957.2
A5: From Other Sources | P5: 235098 | Q5: =O5*38.52 -> 0
A6: Imports | B6: 243622.32 | C6: 140 | D6: 20666.855 | E6: 940.69665 | F6: 0 | G6: 41.94735 | H6: 7673.9763 | I6: 2864.1178 | J6: 2899.9153 | K6: 234.58348 | L6: 0.014612 | M6: 13152.58 | N6: 2428.3306 | O6: 35720.306 | P6: 7457.24 | Q6: =O6*38.52 -> 1375946.2
A7: Exports | B7: -1914.1738 | C7: -20 | D7: -551.18564 | E7: -5168.9983 | F7: -11.961593 | G7: -28027.261 | H7: -2413.1794 | I7: -17.049558 | J7: -23.067804 | K7: -15830.479 | L7: -8553.9555 | M7: -692.2932 | N7: -3786.2591 | O7: 0 | P7: -10620.78 | Q7: =O7*38.52 -> 0
A8: International marine bunkers | G8: 974
A9: International aviation bunkers | L9: 2303
A10: Stock changes | B10: -22141 | C10: -697 | Q10: =O10*38.52 -> 0
A11: Domestic Supply | B11: =SUM(B4:B10) -> 1267089.8 | C11: =SUM(C4:C10) -> 44556.498 | D11: =SUM(D4:D10) -> 32903.472 | E11: =SUM(E4:E10) -> 13696.106 | F11: =SUM(F4:F10) -> 996.52485 | G11: =SUM(G4:G10) -> 91841.649 | H11: =SUM(H4:H10) -> 16119.536 | I11: =SUM(I4:I10) -> 4146.7504 | ... P11: =SUM(P4:P10) -> 2056148.1 | Q11: =O11*38.52 -> 2766903.4
A12: Transfer | Q12: =O12*38.52 -> 0
A13: Statistical difference | B13: -2014.0221 | C13: -20.540846 | D13: 1575.5615 | E13: 667.66488 | F13: 588.52485 | G13: -403.62417 | H13: 9609.0809 | I13: -433.98718 | J13: -401.34914 | K13: -7335.8436 | L13: 2518.8974 | M13: 5421.4448 | N13: 21834.224 | O13: -5431.6019 | P13: 18683.475 | Q13: =O13*38.52 -> -209225.3
A14: Transformation | B14: =B15 -> 964537.52 | C14: =C15 -> 35624.739 | D14: =D15 -> 0.017299 | E14: =E15 -> 0.03777 | F14: =F15 -> 0 | G14: =G15 -> 1818.3388 | H14: =H15 -> 327.10679 | I14: =I15 -> 0 | ... P14: =P15 -> 0 | Q14: =O14*38.52 -> 342513.33
A15: Electricity plants | B15: 964537.52 | C15: 35624.739 | D15: 0.017299 | E15: 0.03777 | F15: 0 | G15: 1818.3388 | H15: 327.10679 | O15: 8891.8309 | Q15: =O15*38.52 -> 342513.33
A16: Energy industry own use | B16: =SUM(B17:B20) -> 0.14838717 | C16: =SUM(C17:C20) -> 0 | D16: =SUM(D17:D20) -> 0 | E16: =SUM(E17:E20) -> 0 | F16: =SUM(F17:F20) -> 0 | G16: =SUM(G17:G20) -> 0 | H16: =SUM(H17:H20) -> 0 | I16: =SUM(I17:I20) -> 0 | ... P16: =SUM(P17:P20) -> 112190 | Q16: =O16*38.52 -> 439519.5
A17: Oil and Gas extraction | O17: 5546.5278 | Q17: =O17*38.52 -> 213652.25
A18: Petroleum refineries | O18: 5863.6357 | Q18: =O18*38.52 -> 225867.25
A19: Own use in electricity, CHP and heat plants | B19: 0.14838717 | P19: 112190
A20: Other energy sector | Q20: =O20*38.52 -> 0
A21: Distribution losses | O21: 519.53277 | P21: 302305.67 | Q21: =O21*38.52 -> 20012.402
A22: Final Consumption | B22: =B23+B37+B44 -> 304566.11 | C22: =C23+C37+C44 -> 8952.3 | D22: =D23+D37+D44 -> 31327.893 | E22: =E23+E37+E44 -> 13028.403 | F22: =F23+F37+F44 -> 408 | G22: =G23+G37+G44 -> 90426.934 | H22: =H23+H37+H44 -> 6183.3487 | I22: =I23+I37+I44 -> 4580.7376 | ... N22: =N23+N37+N44 -> 11560.521 | O22: =O23+O37+O44+O49 -> 56440.38 | P22: =P23+P37+P44 -> 1622969 | Q22: =O22*38.52 -> 2174083.4
A23: Industry Sector | B23: =SUM(B24:B36) -> 304556.96 | C23: =SUM(C24:C36) -> 8952.3 | D23: =SUM(D24:D36) -> 3058.4111 | E23: =SUM(E24:E36) -> 13028.403 | F23: =SUM(F24:F36) -> 0 | G23: =SUM(G24:G36) -> 8332.6255 | H23: =SUM(H24:H36) -> 1868.4886 | I23: =SUM(I24:I36) -> 0 | ... P23: =SUM(P24:P36) -> 655561.75 | Q23: =O23*38.52 -> 107953.44
A24: Iron and steel | B24: 85128.613 | C24: 31 | D24: 0 | E24: 0 | F24: 0 | G24: 161.38619 | H24: 517.74023 | P24: 177585.5 | Q24: =O24*38.52 -> 0
A25: Chemical and petroleum | B25: 31596.294 | C25: 627 | D25: 165.19009 | E25: 11456.683 | F25: 0 | G25: 107.95361 | H25: 533.41238 | P25: 100356.44 | Q25: =O25*38.52 -> 0
A26: Non-ferrous metals | B26: 74298.248 | C26: 0 | D26: 100.24058 | E26: 0 | F26: 0 | G26: 15.07644 | H26: 379.0266 | P26: 38691.124 | Q26: =O26*38.52 -> 0
A27: Non-metallic minerals | B27: 65394.865 | C27: 538 | D27: 0 | E27: 0 | F27: 0 | G27: 483.75538 | H27: 93.233245 | P27: 61872.345
A28: Transport equipment | B28: 61.980762 | C28: 0 | P28: 30775.662
A29: Machinery | B29: 541.65577 | C29: 0 | D29: 13.730605 | E29: 0 | F29: 0 | G29: 111.27287 | H29: 13.613592 | P29: 45741.006 | Q29: =O29*38.52 -> 0
A30: Mining & Quarrying | B30: 78.583506 | C30: 0 | D30: 9.005005 | E30: 0 | F30: 0 | G30: 1565.138 | H30: 92.640459 | P30: 177.83619 | Q30: =O30*38.52 -> 0
A31: Food, beverages and tobacco | B31: 10384.04 | C31: 0 | P31: 59808.855
A32: Paper, pulp and print | B32: 13979.405 | C32: 533 | D32: 0 | E32: 0 | F32: 0 | G32: 0 | H32: 13.613592 | P32: 17489.224 | Q32: =O32*38.52 -> 0
A33: Wood and wood products | B33: 183.88641 | C33: 0 | P33: 2795.7736
A34: Construction | B34: 0 | C34: 0 | D34: 0 | E34: 0 | F34: 0 | G34: 478.95473 | H34: 35.14664 | P34: 0 | Q34: =O34*38.52 -> 0
A35: Textile and leather | B35: 17536.564 | C35: 2650 | D35: 0.622328 | E35: 0 | F35: 0 | G35: 6.4142357 | H35: 20.136678 | P35: 72045.189 | Q35: =O35*38.52 -> 0
A36: Non-specified | B36: 5372.8222 | C36: 4573.3 | D36: 2769.6225 | E36: 1571.7197 | F36: 0 | G36: 5402.674 | H36: 169.92521 | M36: 22002.274 | N36: 11560.521 | O36: 2802.5296 | P36: 48222.795 | Q36: =O36*38.52 -> 107953.44
A37: Transport Sector | B37: =SUM(B38:B43) -> 0 | C37: =SUM(C38:C43) -> 0 | D37: =SUM(D38:D43) -> 75.600763 | E37: =SUM(E38:E43) -> 0 | F37: =SUM(F38:F43) -> 0 | G37: =SUM(G38:G43) -> 68899.66 | H37: =SUM(H38:H43) -> 1681.2702 | I37: =SUM(I38:I43) -> 0 | ... P37: =SUM(P38:P43) -> 34500 | Q37: =O37*38.52 -> 655605.22
A38: Road | B38: ='[3]6.3(ASI)'!R22 -> 0 | C38: ='[3]6.4'!O20 -> 0 | D38: ='[3]6.6(e) , (f), g)'!P17 -> 73.175174 | E38: ='[3]6.6(e) , (f), g)'!P52 -> 0 | F38: ='[3]6.6(e) , (f), g)'!P87 -> 0 | G38: ='[3]6.6 (A) and (b) '!P17+'[3]6.6 (A) and (b) '!P52 -> 64586.395 | H38: ='[3]6.6(c) and (d)'!P17+'[3]6.6(c) and (d)'!P48 -> 177.33237 | K38: ='[3]6.5'!C19*1000 -> 40004.537 | O38: ='[3]Base table for 6.7'!P8 -> 15051.461 | P38: ='[3]6.8(ASI)'!P19 -> 0 | Q38: =O38*38.52 -> 579782.27
A39: Domestic Aviation | B39: ='[3]6.3(ASI)'!R23 -> 0 | C39: ='[3]6.4'!O21 -> 0 | D39: ='[3]6.6(e) , (f), g)'!P18 -> 0 | E39: ='[3]6.6(e) , (f), g)'!P53 -> 0 | F39: ='[3]6.6(e) , (f), g)'!P88 -> 0 | G39: ='[3]6.6 (A) and (b) '!P18+'[3]6.6 (A) and (b) '!P53 -> 0.82975207 | H39: ='[3]6.6(c) and (d)'!P18+'[3]6.6(c) and (d)'!P49 -> 0 | P39: ='[3]6.8(ASI)'!P20 -> 0 | Q39: =O39*38.52 -> 0
A40: Rail | B40: ='[3]6.3(ASI)'!R24 -> 0 | C40: ='[3]6.4'!O22 -> 0 | D40: ='[3]6.6(e) , (f), g)'!P19 -> 2.425589 | E40: ='[3]6.6(e) , (f), g)'!P54 -> 0 | F40: ='[3]6.6(e) , (f), g)'!P89 -> 0 | G40: ='[3]6.6 (A) and (b) '!P19+'[3]6.6 (A) and (b) '!P54 -> 2892.2757 | H40: ='[3]6.6(c) and (d)'!P19+'[3]6.6(c) and (d)'!P50 -> 0.10744436 | P40: ='[3]6.8(ASI)'!P21 -> 34500 | Q40: =O40*38.52 -> 0
A41: Pipeline transport | B41: ='[3]6.3(ASI)'!R25 -> 0 | C41: ='[3]6.4'!O23 -> 0 | D41: ='[3]6.6(e) , (f), g)'!P20 -> 0 | E41: ='[3]6.6(e) , (f), g)'!P55 -> 0 | F41: ='[3]6.6(e) , (f), g)'!P90 -> 0 | G41: ='[3]6.6 (A) and (b) '!P20+'[3]6.6 (A) and (b) '!P55 -> 0 | H41: ='[3]6.6(c) and (d)'!P20+'[3]6.6(c) and (d)'!P51 -> 0 | O41: ='[3]Base table for 6.7'!P10 -> 1968.4046 | P41: ='[3]6.8(ASI)'!P22 -> 0 | Q41: =O41*38.52 -> 75822.945
A42: Domestic navigation | B42: ='[3]6.3(ASI)'!R26 -> 0 | C42: ='[3]6.4'!O24 -> 0 | D42: ='[3]6.6(e) , (f), g)'!P21 -> 0 | E42: ='[3]6.6(e) , (f), g)'!P56 -> 0 | F42: ='[3]6.6(e) , (f), g)'!P91 -> 0 | G42: ='[3]6.6 (A) and (b) '!P21+'[3]6.6 (A) and (b) '!P56 -> 1420.1602 | H42: ='[3]6.6(c) and (d)'!P21+'[3]6.6(c) and (d)'!P52 -> 1503.8304 | L42: ='[3]6.5'!F19*1000 -> 8984.6895 | P42: ='[3]6.8(ASI)'!P23 -> 0 | Q42: =O42*38.52 -> 0
A43: Non-specified | B43: ='[3]6.3(ASI)'!R27 -> 0 | C43: ='[3]6.4'!O25 -> 0 | D43: ='[3]6.6(e) , (f), g)'!P22 -> 0 | E43: ='[3]6.6(e) , (f), g)'!P57 -> 0 | F43: ='[3]6.6(e) , (f), g)'!P92 -> 0 | G43: ='[3]6.6 (A) and (b) '!P22+'[3]6.6 (A) and (b) '!P57 -> 0 | H43: ='[3]6.6(c) and (d)'!P22+'[3]6.6(c) and (d)'!P53 -> 0 | P43: ='[3]6.8(ASI)'!P24 -> 0 | Q43: =O43*38.52 -> 0
A44: Other Sectors | B44: =SUM(B45:B48) -> 9.1517519 | C44: =SUM(C45:C48) -> 0 | D44: =SUM(D45:D48) -> 28193.881 | E44: =SUM(E45:E48) -> 0 | F44: =SUM(F45:F48) -> 408 | G44: =SUM(G45:G48) -> 13194.649 | H44: =SUM(H45:H48) -> 2633.5899 | I44: =SUM(I45:I48) -> 4580.7376 | ... P44: =SUM(P45:P48) -> 932907.23 | Q44: =O44*38.52 -> 405556.25
A45: Residential | B45: 0 | C45: 0 | D45: 27653.522 | E45: 0 | F45: 230 | G45: 0 | H45: 0 | P45: 408514.89 | Q45: =O45*38.52 -> 0
A46: Comm. And public services | B46: 0 | C46: 0 | D46: 0 | E46: 0 | F46: 63 | G46: 0 | H46: 0 | P46: 135163.35 | Q46: =O46*38.52 -> 0
A47: Agriculture/forestry | B47: 9.1517519 | C47: 0 | D47: 24.72976 | E47: 0 | F47: 0 | G47: 4317.5054 | H47: 42.76285 | O47: 152.68769 | P47: 260276 | Q47: =O47*38.52 -> 5881.5297
A48: Non-specified | B48: 0 | C48: 0 | D48: 515.62957 | E48: 0 | F48: 115 | G48: 8877.1431 | H48: 2590.827 | I48: 4580.7376 | J48: 8581.5429 | O48: 10375.772 | P48: 128953 | Q48: =O48*38.52 -> 399674.72
A49: Non-Energy Use | O49: 26089.526 | Q49: =O49*38.52 -> 1004968.5
A50: P: Provisional
A51: Statistical Difference is defined as final consumption + use for transformation processes and consumption by energy industry own use + losses - domestic supply
A52: Final consumption = Total Consumption in Transport + Total Industrial Consumption+Consumption by Other sectors+Non energy Use
A53: * Incluse Paraffin waxes, petroleum jelly, LSWR, MTBE and reformate, BGO, Benzene, MTO, CBFS and Sulfur etc.
Q107: FALSE
Q108: FALSE

Sheet 7.6_FY-2024-25(P)
A1: Table 7.6: Energy Balance of India for 2024-25 (P)
J2: All figures in KToE
B3: Coal | C3: Lignite | D3: Crude Oil | E3: Oil Products | F3: Natural Gas | G3: Nuclear | H3: Large Hydro | I3: Solar, Wind, Others | J3: Electricity | K3: Total
A4: Production | B4: 421681.24 | C4: 10290.541 | D4: 29334.956 | E4: 0 | F4: 33401.454 | G4: 14771.368 | H4: 12815.202 | I4: 23031.59 | J4: 0 | K4: 545326.35
A5: Imports | B5: 131052.56 | C5: 31.920321 | D5: 248575.36 | E5: 50170.78 | F5: 33040.99 | G5: 0 | H5: 0 | I5: 0 | J5: 641.32264 | K5: 463512.94
A6: Exports | B6: -1289.283 | C6: -4.5600459 | D6: 0 | E6: -67830.188 | F6: 0 | G6: 0 | H6: 0 | I6: 0 | J6: -913.38708 | K6: -70037.418
A7: International marine bunkers | E7: 1008.1044 | K7: 1008.1044
A8: International aviation bunkers | E8: 2453.277 | K8: 2453.277
A9: Stock changes | B9: -9288.1495 | C9: -158.9176 | D9: 0 | E9: 0 | F9: 0 | G9: 0 | H9: 0 | I9: 0 | J9: 0 | K9: -9447.0671
A10: Total primary energy supply | B10: =SUM(B4:B9) -> 542156.37 | C10: =SUM(C4:C9) -> 10158.984 | D10: =SUM(D4:D9) -> 277910.32 | E10: =SUM(E4:E9) -> -14198.026 | F10: =SUM(F4:F9) -> 66442.444 | G10: =SUM(G4:G9) -> 14771.368 | H10: =SUM(H4:H9) -> 12815.202 | I10: =SUM(I4:I9) -> 23031.59 | J10: =SUM(J4:J9) -> -272.06444 | K10: =SUM(B10:J10) -> 932816.19
A11: Statistical differences | B11: 26273.284 | C11: 4.68336 | D11: 24911.053 | E11: -31288.73 | F11: 5024.1872 | G11: 0 | H11: -2.9132252e-13 | I11: 6.8212103e-13 | J11: -1606.7788 | K11: 23317.698
A12: Main activity producer electricity plants | B12: -396060.6 | C12: -8122.5222 | D12: 0 | E12: -2204.268 | F12: -8224.8707 | G12: -14771.368 | H12: -12782.522 | I12: -21930.79 | J12: 156882.38 | K12: -307214.57
A13: Autoproducer electricity plants | B13: 0 | C13: 0 | D13: 0 | E13: 0 | F13: 0 | G13: 0 | H13: -32.68 | I13: -1100.8 | J13: 20218.428 | K13: 19084.948
A14: Oil refineries | B14: 0 | C14: 0 | D14: -274522.2 | E14: 290076.91 | F14: 0 | G14: 0 | H14: 0 | I14: 0 | J14: 0 | K14: 15554.706
A15: Energy industry own use | B15: 0 | C15: 0 | D15: 0 | E15: 0 | F15: -10554.308 | G15: 0 | H15: 0 | I15: 0 | J15: -9648.34 | K15: -20202.648
A16: Losses | B16: 0 | C16: 0 | D16: -28299.168 | E16: 0 | F16: -480.56355 | G16: 0 | H16: 0 | I16: 0 | J16: -25998.288 | K16: -54778.019
A17: Final consumption | B17: =SUM(B18,B32,B39,B44) -> 172369.06 | C17: =SUM(C18,C32,C39,C44) -> 2041.1449 | D17: =SUM(D18,D32,D39,D44) -> 0 | E17: =SUM(E18,E32,E39,E44) -> 242385.89 | F17: =SUM(F18,F32,F39,F44) -> 52206.889 | G17: =SUM(G18,G32,G39,G44) -> 0 | H17: =SUM(H18,H32,H39,H44) -> 0 | I17: =SUM(I18,I32,I39,I44) -> 0 | ... K17: =SUM(K18,K32,K39,K44) -> 608578.31
A18: Industry | B18: =SUM(B19:B31) -> 172365.22 | C18: =SUM(C19:C31) -> 2041.1449 | D18: =SUM(D19:D31) -> 0 | E18: =SUM(E19:E31) -> 55837.59 | F18: =SUM(F19:F31) -> 2592.3169 | G18: =SUM(G19:G31) -> 0 | H18: =SUM(H19:H31) -> 0 | I18: =SUM(I19:I31) -> 0 | ... K18: =SUM(K19:K31) -> 289214.58
A19: Iron and steel | B19: 48178.875 | C19: 7.0680711 | D19: 0 | E19: 677.01148 | F19: 0 | G19: 0 | H19: 0 | I19: 0 | J19: 15272.353 | K19: 64135.308
A20: Chemical and petrochemical | B20: 17882.048 | C20: 142.95744 | D20: 0 | E20: 13137.485 | F20: 0 | G20: 0 | H20: 0 | I20: 0 | J20: 8630.6538 | K20: 39793.144
A21: Non-ferrous metals | B21: 42049.388 | C21: 0 | D21: 0 | E21: 502.19163 | F21: 0 | G21: 0 | H21: 0 | I21: 0 | J21: 3327.4366 | K21: 45879.016
A22: Non-metallic minerals | B22: 37010.483 | C22: 122.66523 | D22: 0 | E22: 592.52877 | F22: 0 | G22: 0 | H22: 0 | I22: 0 | J22: 5321.0217 | K22: 43046.699
A23: Transport equipment | B23: 35.078258 | C23: 0 | D23: 0 | E23: 0 | F23: 0 | G23: 0 | H23: 0 | I23: 0 | J23: 2646.7069 | K23: 2681.7852
A24: Machinery | B24: 306.55223 | C24: 0 | D24: 0 | E24: 144.09049 | F24: 0 | G24: 0 | H24: 0 | I24: 0 | J24: 3933.7265 | K24: 4384.3692
A25: Mining and quarrying | B25: 44.474646 | C25: 0 | D25: 0 | E25: 1721.3653 | F25: 0 | G25: 0 | H25: 0 | I25: 0 | J25: 15.293913 | K25: 1781.1338
A26: Food, beverages and tobacco | B26: 5876.8887 | C26: 0 | D26: 0 | E26: 0 | F26: 0 | G26: 0 | H26: 0 | I26: 0 | J26: 5143.5615 | K26: 11020.45
A27: Paper, pulp and print | B27: 7911.6996 | C27: 121.52522 | D27: 0 | E27: 13.409395 | F27: 0 | G27: 0 | H27: 0 | I27: 0 | J27: 1504.0733 | K27: 9550.7075
A28: Wood and wood products | B28: 104.07124 | C28: 0 | D28: 0 | E28: 0 | F28: 0 | G28: 0 | H28: 0 | I28: 0 | J28: 240.43653 | K28: 344.50777
A29: Construction | B29: 0 | C29: 0 | D29: 0 | E29: 530.34469 | F29: 0 | G29: 0 | H29: 0 | I29: 0 | J29: 0 | K29: 530.34469
A30: Textile and leather | B30: 9924.8878 | C30: 604.20608 | D30: 0 | E30: 27.176536 | F30: 0 | G30: 0 | H30: 0 | I30: 0 | J30: 6195.8862 | K30: 16752.157
A31: Non-specified (industry) | B31: 3040.77 | C31: 1042.7229 | D31: 0 | E31: 38491.987 | F31: 2592.3169 | G31: 0 | H31: 0 | I31: 0 | J31: 4147.1603 | K31: 49314.957
A32: Transport | B32: =SUM(B33:B38) -> 0 | C32: =SUM(C33:C38) -> 0 | D32: =SUM(D33:D38) -> 0 | E32: =SUM(E33:E38) -> 125430.53 | F32: =SUM(F33:F38) -> 15743.236 | G32: =SUM(G33:G38) -> 0 | H32: =SUM(H33:H38) -> 0 | I32: =SUM(I33:I38) -> 0 | ... K32: =SUM(K33:K38) -> 144140.76
A33: Road | B33: 0 | C33: 0 | D33: 0 | E33: 109911.26 | F33: 13922.478 | G33: 0 | H33: 0 | I33: 0 | J33: 0 | K33: 123833.73
A34: Domestic aviation | B34: 0 | C34: 0 | D34: 0 | E34: 9571.8235 | F34: 0 | G34: 0 | H34: 0 | I34: 0 | J34: 0 | K34: 9571.8235
A35: Rail | B35: 0 | C35: 0 | D35: 0 | E35: 2996.2885 | F35: 0 | G35: 0 | H35: 0 | I35: 0 | J35: 2967 | K35: 5963.2885
A36: Pipeline transport | B36: 0 | C36: 0 | D36: 0 | E36: 0 | F36: 1820.7581 | G36: 0 | H36: 0 | I36: 0 | J36: 0 | K36: 1820.7581
A37: Domestic navigation | B37: 0 | C37: 0 | D37: 0 | E37: 2951.1605 | F37: 0 | G37: 0 | H37: 0 | I37: 0 | J37: 0 | K37: 2951.1605
A38: Non-specified (transport) | B38: 0 | C38: 0 | D38: 0 | E38: 0 | F38: 0 | G38: 0 | H38: 0 | I38: 0 | J38: 0 | K38: 0
A39: Other | B39: =SUM(B40:B43) -> 3.8391599 | C39: =SUM(C40:C43) -> 0 | D39: =SUM(D40:D43) -> 0 | E39: =SUM(E40:E43) -> 61117.768 | F39: =SUM(F40:F43) -> 9738.7385 | G39: =SUM(G40:G43) -> 0 | H39: =SUM(H40:H43) -> 0 | I39: =SUM(I40:I43) -> 0 | ... K39: =SUM(K40:K43) -> 151090.37
A40: Residential | B40: 0 | C40: 0 | D40: 0 | E40: 31481.67 | F40: 0 | G40: 0 | H40: 0 | I40: 0 | J40: 35132.28 | K40: 66613.95
A41: Commercial and public services | B41: 0 | C41: 0 | D41: 0 | E41: 65.83491 | F41: 0 | G41: 0 | H41: 0 | I41: 0 | J41: 11624.048 | K41: 11689.883
A42: Agriculture/forestry | B42: 3.8391599 | C42: 0 | D42: 0 | E42: 4538.7417 | F42: 141.23486 | G42: 0 | H42: 0 | I42: 0 | J42: 22383.736 | K42: 27067.552
A43: Non-specified (other) | B43: 0 | C43: 0 | D43: 0 | E43: 25031.521 | F43: 9597.5037 | G43: 0 | H43: 0 | I43: 0 | J43: 11089.958 | K43: 45718.983
A44: Non-energy use | B44: =SUM(B45:B47) -> 0 | C44: =SUM(C45:C47) -> 0 | D44: =SUM(D45:D47) -> 0 | E44: =SUM(E45:E47) -> 0 | F44: =SUM(F45:F47) -> 24132.598 | G44: =SUM(G45:G47) -> 0 | H44: =SUM(H45:H47) -> 0 | I44: =SUM(I45:I47) -> 0 | ... K44: =SUM(K45:K47) -> 24132.598
A45: Non-energy use industry/transformation/energy | B45: 0 | C45: 0 | D45: 0 | E45: 0 | F45: 24132.598 | G45: 0 | H45: 0 | I45: 0 | J45: 0 | K45: 24132.598
A46: Non-energy use in transport | B46: 0 | C46: 0 | D46: 0 | E46: 0 | F46: 0 | G46: 0 | H46: 0 | I46: 0 | J46: 0 | K46: 0
A47: Non-energy use in other | B47: 0 | C47: 0 | D47: 0 | E47: 0 | F47: 0 | G47: 0 | H47: 0 | I47: 0 | J47: 0 | K47: 0
A48: Elect. output in GWh | B48: =SUM(B49:B50) -> 0 | C48: =SUM(C49:C50) -> 0 | D48: =SUM(D49:D50) -> 0 | E48: =SUM(E49:E50) -> 0 | F48: =SUM(F49:F50) -> 0 | G48: =SUM(G49:G50) -> 56680.83 | H48: =SUM(H49:H50) -> 149013.98 | I48: =SUM(I49:I50) -> 267809.19 | ... K48: =SUM(K49:K50) -> 473504
A49: Elec output-main activity producer ele plants | B49: 0 | C49: 0 | D49: 0 | E49: 0 | F49: 0 | G49: 56680.83 | H49: 148633.98 | I49: 255009.19 | J49: 0 | K49: 460324
A50: Elec output-autoproducer electricity plants | B50: 0 | C50: 0 | D50: 0 | E50: 0 | F50: 0 | G50: 0 | H50: 380 | I50: 12800 | J50: 0 | K50: 13180
A51: Final consumption refers to End Use Consumption
A52: P: Provisional

Sheet 7.7_FY-2024-25(P)_PJ
A1: Table 7.7: Energy Balance of India for 2024-25 (P)
J2: All figures in Peta Joule
B3: Coal | C3: Lignite | D3: Crude Oil | E3: Oil Products | F3: Natural Gas | G3: Nuclear | H3: Large Hydro | I3: Solar, Wind, Others | J3: Electricity | K3: Total | L3: =41868/1000000 -> 0.041868
A4: Production | B4: ='[5]7.6_FY-2024-25(P)'!B4*'7.7_FY-2024-25(P)_PJ'!$L$3 -> 17654.95 | C4: ='[5]7.6_FY-2024-25(P)'!C4*'7.7_FY-2024-25(P)_PJ'!$L$3 -> 430.84437 | D4: ='[5]7.6_FY-2024-25(P)'!D4*'7.7_FY-2024-25(P)_PJ'!$L$3 -> 1228.196 | E4: ='[5]7.6_FY-2024-25(P)'!E4*'7.7_FY-2024-25(P)_PJ'!$L$3 -> 0 | F4: ='[5]7.6_FY-2024-25(P)'!F4*'7.7_FY-2024-25(P)_PJ'!$L$3 -> 1398.4521 | G4: ='[5]7.6_FY-2024-25(P)'!G4*'7.7_FY-2024-25(P)_PJ'!$L$3 -> 618.44763 | H4: ='[5]7.6_FY-2024-25(P)'!H4*'7.7_FY-2024-25(P)_PJ'!$L$3 -> 536.54689 | I4: ='[5]7.6_FY-2024-25(P)'!I4*'7.7_FY-2024-25(P)_PJ'!$L$3 -> 964.28662 | ... K4: ='[5]7.6_FY-2024-25(P)'!K4*'7.7_FY-2024-25(P)_PJ'!$L$3 -> 22831.724
A5: Imports | B5: ='[5]7.6_FY-2024-25(P)'!B5*'7.7_FY-2024-25(P)_PJ'!$L$3 -> 5486.9086 | C5: ='[5]7.6_FY-2024-25(P)'!C5*'7.7_FY-2024-25(P)_PJ'!$L$3 -> 1.33644 | D5: ='[5]7.6_FY-2024-25(P)'!D5*'7.7_FY-2024-25(P)_PJ'!$L$3 -> 10407.353 | E5: ='[5]7.6_FY-2024-25(P)'!E5*'7.7_FY-2024-25(P)_PJ'!$L$3 -> 2100.5502 | F5: ='[5]7.6_FY-2024-25(P)'!F5*'7.7_FY-2024-25(P)_PJ'!$L$3 -> 1383.3602 | G5: ='[5]7.6_FY-2024-25(P)'!G5*'7.7_FY-2024-25(P)_PJ'!$L$3 -> 0 | H5: ='[5]7.6_FY-2024-25(P)'!H5*'7.7_FY-2024-25(P)_PJ'!$L$3 -> 0 | I5: ='[5]7.6_FY-2024-25(P)'!I5*'7.7_FY-2024-25(P)_PJ'!$L$3 -> 0 | ... K5: ='[5]7.6_FY-2024-25(P)'!K5*'7.7_FY-2024-25(P)_PJ'!$L$3 -> 19406.36 | L5: Not: 1 KToE= 0.041868 PJ
A6: Exports | B6: ='[5]7.6_FY-2024-25(P)'!B6*'7.7_FY-2024-25(P)_PJ'!$L$3 -> -53.979703 | C6: ='[5]7.6_FY-2024-25(P)'!C6*'7.7_FY-2024-25(P)_PJ'!$L$3 -> -0.19092 | D6: ='[5]7.6_FY-2024-25(P)'!D6*'7.7_FY-2024-25(P)_PJ'!$L$3 -> 0 | E6: ='[5]7.6_FY-2024-25(P)'!E6*'7.7_FY-2024-25(P)_PJ'!$L$3 -> -2839.9143 | F6: ='[5]7.6_FY-2024-25(P)'!F6*'7.7_FY-2024-25(P)_PJ'!$L$3 -> 0 | G6: ='[5]7.6_FY-2024-25(P)'!G6*'7.7_FY-2024-25(P)_PJ'!$L$3 -> 0 | H6: ='[5]7.6_FY-2024-25(P)'!H6*'7.7_FY-2024-25(P)_PJ'!$L$3 -> 0 | I6: ='[5]7.6_FY-2024-25(P)'!I6*'7.7_FY-2024-25(P)_PJ'!$L$3 -> 0 | ... K6: ='[5]7.6_FY-2024-25(P)'!K6*'7.7_FY-2024-25(P)_PJ'!$L$3 -> -2932.3266
A7: International marine bunkers | E7: ='[5]7.6_FY-2024-25(P)'!E7*'7.7_FY-2024-25(P)_PJ'!$L$3 -> 42.207316
A8: International aviation bunkers | E8: ='[5]7.6_FY-2024-25(P)'!E8*'7.7_FY-2024-25(P)_PJ'!$L$3 -> 102.7138
A9: Stock changes | B9: ='[5]7.6_FY-2024-25(P)'!B9*'7.7_FY-2024-25(P)_PJ'!$L$3 -> -388.87624 | C9: ='[5]7.6_FY-2024-25(P)'!C9*'7.7_FY-2024-25(P)_PJ'!$L$3 -> -6.653562 | D9: ='[5]7.6_FY-2024-25(P)'!D9*'7.7_FY-2024-25(P)_PJ'!$L$3 -> 0 | E9: ='[5]7.6_FY-2024-25(P)'!E9*'7.7_FY-2024-25(P)_PJ'!$L$3 -> 0 | F9: ='[5]7.6_FY-2024-25(P)'!F9*'7.7_FY-2024-25(P)_PJ'!$L$3 -> 0 | G9: ='[5]7.6_FY-2024-25(P)'!G9*'7.7_FY-2024-25(P)_PJ'!$L$3 -> 0 | H9: ='[5]7.6_FY-2024-25(P)'!H9*'7.7_FY-2024-25(P)_PJ'!$L$3 -> 0 | I9: ='[5]7.6_FY-2024-25(P)'!I9*'7.7_FY-2024-25(P)_PJ'!$L$3 -> 0 | ... K9: ='[5]7.6_FY-2024-25(P)'!K9*'7.7_FY-2024-25(P)_PJ'!$L$3 -> -395.52981
A10: Total primary energy supply | B10: ='[5]7.6_FY-2024-25(P)'!B10*'7.7_FY-2024-25(P)_PJ'!$L$3 -> 22699.003 | C10: ='[5]7.6_FY-2024-25(P)'!C10*'7.7_FY-2024-25(P)_PJ'!$L$3 -> 425.33633 | D10: ='[5]7.6_FY-2024-25(P)'!D10*'7.7_FY-2024-25(P)_PJ'!$L$3 -> 11635.549 | E10: ='[5]7.6_FY-2024-25(P)'!E10*'7.7_FY-2024-25(P)_PJ'!$L$3 -> -594.44294 | F10: ='[5]7.6_FY-2024-25(P)'!F10*'7.7_FY-2024-25(P)_PJ'!$L$3 -> 2781.8122 | G10: ='[5]7.6_FY-2024-25(P)'!G10*'7.7_FY-2024-25(P)_PJ'!$L$3 -> 618.44763 | H10: ='[5]7.6_FY-2024-25(P)'!H10*'7.7_FY-2024-25(P)_PJ'!$L$3 -> 536.54689 | I10: ='[5]7.6_FY-2024-25(P)'!I10*'7.7_FY-2024-25(P)_PJ'!$L$3 -> 964.28662 | ... K10: ='[5]7.6_FY-2024-25(P)'!K10*'7.7_FY-2024-25(P)_PJ'!$L$3 -> 39055.148
A11: Statistical differences | B11: ='[5]7.6_FY-2024-25(P)'!B11*'7.7_FY-2024-25(P)_PJ'!$L$3 -> 1100.0099 | C11: ='[5]7.6_FY-2024-25(P)'!C11*'7.7_FY-2024-25(P)_PJ'!$L$3 -> 0.19608292 | D11: ='[5]7.6_FY-2024-25(P)'!D11*'7.7_FY-2024-25(P)_PJ'!$L$3 -> 1042.976 | E11: ='[5]7.6_FY-2024-25(P)'!E11*'7.7_FY-2024-25(P)_PJ'!$L$3 -> -1309.9966 | F11: ='[5]7.6_FY-2024-25(P)'!F11*'7.7_FY-2024-25(P)_PJ'!$L$3 -> 210.35267 | G11: ='[5]7.6_FY-2024-25(P)'!G11*'7.7_FY-2024-25(P)_PJ'!$L$3 -> 0 | H11: ='[5]7.6_FY-2024-25(P)'!H11*'7.7_FY-2024-25(P)_PJ'!$L$3 -> -1.2197091e-14 | I11: ='[5]7.6_FY-2024-25(P)'!I11*'7.7_FY-2024-25(P)_PJ'!$L$3 -> 2.8559043e-14 | ... K11: ='[5]7.6_FY-2024-25(P)'!K11*'7.7_FY-2024-25(P)_PJ'!$L$3 -> 976.2654
A12: Main activity producer electricity plants | B12: ='[5]7.6_FY-2024-25(P)'!B12*'7.7_FY-2024-25(P)_PJ'!$L$3 -> -16582.265 | C12: ='[5]7.6_FY-2024-25(P)'!C12*'7.7_FY-2024-25(P)_PJ'!$L$3 -> -340.07376 | D12: ='[5]7.6_FY-2024-25(P)'!D12*'7.7_FY-2024-25(P)_PJ'!$L$3 -> 0 | E12: ='[5]7.6_FY-2024-25(P)'!E12*'7.7_FY-2024-25(P)_PJ'!$L$3 -> -92.288294 | F12: ='[5]7.6_FY-2024-25(P)'!F12*'7.7_FY-2024-25(P)_PJ'!$L$3 -> -344.35888 | G12: ='[5]7.6_FY-2024-25(P)'!G12*'7.7_FY-2024-25(P)_PJ'!$L$3 -> -618.44763 | H12: ='[5]7.6_FY-2024-25(P)'!H12*'7.7_FY-2024-25(P)_PJ'!$L$3 -> -535.17864 | I12: ='[5]7.6_FY-2024-25(P)'!I12*'7.7_FY-2024-25(P)_PJ'!$L$3 -> -918.19833 | ... K12: ='[5]7.6_FY-2024-25(P)'!K12*'7.7_FY-2024-25(P)_PJ'!$L$3 -> -12862.459
A13: Autoproducer electricity plants | B13: ='[5]7.6_FY-2024-25(P)'!B13*'7.7_FY-2024-25(P)_PJ'!$L$3 -> 0 | C13: ='[5]7.6_FY-2024-25(P)'!C13*'7.7_FY-2024-25(P)_PJ'!$L$3 -> 0 | D13: ='[5]7.6_FY-2024-25(P)'!D13*'7.7_FY-2024-25(P)_PJ'!$L$3 -> 0 | E13: ='[5]7.6_FY-2024-25(P)'!E13*'7.7_FY-2024-25(P)_PJ'!$L$3 -> 0 | F13: ='[5]7.6_FY-2024-25(P)'!F13*'7.7_FY-2024-25(P)_PJ'!$L$3 -> 0 | G13: ='[5]7.6_FY-2024-25(P)'!G13*'7.7_FY-2024-25(P)_PJ'!$L$3 -> 0 | H13: ='[5]7.6_FY-2024-25(P)'!H13*'7.7_FY-2024-25(P)_PJ'!$L$3 -> -1.3682462 | I13: ='[5]7.6_FY-2024-25(P)'!I13*'7.7_FY-2024-25(P)_PJ'!$L$3 -> -46.088294 | ... K13: ='[5]7.6_FY-2024-25(P)'!K13*'7.7_FY-2024-25(P)_PJ'!$L$3 -> 799.0486
A14: Oil refineries | B14: ='[5]7.6_FY-2024-25(P)'!B14*'7.7_FY-2024-25(P)_PJ'!$L$3 -> 0 | C14: ='[5]7.6_FY-2024-25(P)'!C14*'7.7_FY-2024-25(P)_PJ'!$L$3 -> 0 | D14: ='[5]7.6_FY-2024-25(P)'!D14*'7.7_FY-2024-25(P)_PJ'!$L$3 -> -11493.696 | E14: ='[5]7.6_FY-2024-25(P)'!E14*'7.7_FY-2024-25(P)_PJ'!$L$3 -> 12144.94 | F14: ='[5]7.6_FY-2024-25(P)'!F14*'7.7_FY-2024-25(P)_PJ'!$L$3 -> 0 | G14: ='[5]7.6_FY-2024-25(P)'!G14*'7.7_FY-2024-25(P)_PJ'!$L$3 -> 0 | H14: ='[5]7.6_FY-2024-25(P)'!H14*'7.7_FY-2024-25(P)_PJ'!$L$3 -> 0 | I14: ='[5]7.6_FY-2024-25(P)'!I14*'7.7_FY-2024-25(P)_PJ'!$L$3 -> 0 | ... K14: ='[5]7.6_FY-2024-25(P)'!K14*'7.7_FY-2024-25(P)_PJ'!$L$3 -> 651.24444
A15: Energy industry own use | B15: ='[5]7.6_FY-2024-25(P)'!B15*'7.7_FY-2024-25(P)_PJ'!$L$3 -> 0 | C15: ='[5]7.6_FY-2024-25(P)'!C15*'7.7_FY-2024-25(P)_PJ'!$L$3 -> 0 | D15: ='[5]7.6_FY-2024-25(P)'!D15*'7.7_FY-2024-25(P)_PJ'!$L$3 -> 0 | E15: ='[5]7.6_FY-2024-25(P)'!E15*'7.7_FY-2024-25(P)_PJ'!$L$3 -> 0 | F15: ='[5]7.6_FY-2024-25(P)'!F15*'7.7_FY-2024-25(P)_PJ'!$L$3 -> -441.88775 | G15: ='[5]7.6_FY-2024-25(P)'!G15*'7.7_FY-2024-25(P)_PJ'!$L$3 -> 0 | H15: ='[5]7.6_FY-2024-25(P)'!H15*'7.7_FY-2024-25(P)_PJ'!$L$3 -> 0 | I15: ='[5]7.6_FY-2024-25(P)'!I15*'7.7_FY-2024-25(P)_PJ'!$L$3 -> 0 | ... K15: ='[5]7.6_FY-2024-25(P)'!K15*'7.7_FY-2024-25(P)_PJ'!$L$3 -> -845.84445
A16: Losses | B16: ='[5]7.6_FY-2024-25(P)'!B16*'7.7_FY-2024-25(P)_PJ'!$L$3 -> 0 | C16: ='[5]7.6_FY-2024-25(P)'!C16*'7.7_FY-2024-25(P)_PJ'!$L$3 -> 0 | D16: ='[5]7.6_FY-2024-25(P)'!D16*'7.7_FY-2024-25(P)_PJ'!$L$3 -> -1184.8296 | E16: ='[5]7.6_FY-2024-25(P)'!E16*'7.7_FY-2024-25(P)_PJ'!$L$3 -> 0 | F16: ='[5]7.6_FY-2024-25(P)'!F16*'7.7_FY-2024-25(P)_PJ'!$L$3 -> -20.120235 | G16: ='[5]7.6_FY-2024-25(P)'!G16*'7.7_FY-2024-25(P)_PJ'!$L$3 -> 0 | H16: ='[5]7.6_FY-2024-25(P)'!H16*'7.7_FY-2024-25(P)_PJ'!$L$3 -> 0 | I16: ='[5]7.6_FY-2024-25(P)'!I16*'7.7_FY-2024-25(P)_PJ'!$L$3 -> 0 | ... K16: ='[5]7.6_FY-2024-25(P)'!K16*'7.7_FY-2024-25(P)_PJ'!$L$3 -> -2293.4461
A17: Final consumption | B17: ='[5]7.6_FY-2024-25(P)'!B17*'7.7_FY-2024-25(P)_PJ'!$L$3 -> 7216.7476 | C17: ='[5]7.6_FY-2024-25(P)'!C17*'7.7_FY-2024-25(P)_PJ'!$L$3 -> 85.458656 | D17: ='[5]7.6_FY-2024-25(P)'!D17*'7.7_FY-2024-25(P)_PJ'!$L$3 -> 0 | E17: ='[5]7.6_FY-2024-25(P)'!E17*'7.7_FY-2024-25(P)_PJ'!$L$3 -> 10148.212 | F17: ='[5]7.6_FY-2024-25(P)'!F17*'7.7_FY-2024-25(P)_PJ'!$L$3 -> 2185.798 | G17: ='[5]7.6_FY-2024-25(P)'!G17*'7.7_FY-2024-25(P)_PJ'!$L$3 -> 0 | H17: ='[5]7.6_FY-2024-25(P)'!H17*'7.7_FY-2024-25(P)_PJ'!$L$3 -> 0 | I17: ='[5]7.6_FY-2024-25(P)'!I17*'7.7_FY-2024-25(P)_PJ'!$L$3 -> 0 | ... K17: ='[5]7.6_FY-2024-25(P)'!K17*'7.7_FY-2024-25(P)_PJ'!$L$3 -> 25479.957
A18: Industry | B18: ='[5]7.6_FY-2024-25(P)'!B18*'7.7_FY-2024-25(P)_PJ'!$L$3 -> 7216.5869 | C18: ='[5]7.6_FY-2024-25(P)'!C18*'7.7_FY-2024-25(P)_PJ'!$L$3 -> 85.458656 | D18: ='[5]7.6_FY-2024-25(P)'!D18*'7.7_FY-2024-25(P)_PJ'!$L$3 -> 0 | E18: ='[5]7.6_FY-2024-25(P)'!E18*'7.7_FY-2024-25(P)_PJ'!$L$3 -> 2337.8082 | F18: ='[5]7.6_FY-2024-25(P)'!F18*'7.7_FY-2024-25(P)_PJ'!$L$3 -> 108.53512 | G18: ='[5]7.6_FY-2024-25(P)'!G18*'7.7_FY-2024-25(P)_PJ'!$L$3 -> 0 | H18: ='[5]7.6_FY-2024-25(P)'!H18*'7.7_FY-2024-25(P)_PJ'!$L$3 -> 0 | I18: ='[5]7.6_FY-2024-25(P)'!I18*'7.7_FY-2024-25(P)_PJ'!$L$3 -> 0 | ... K18: ='[5]7.6_FY-2024-25(P)'!K18*'7.7_FY-2024-25(P)_PJ'!$L$3 -> 12108.836
A19: Iron and steel | B19: ='[5]7.6_FY-2024-25(P)'!B19*'7.7_FY-2024-25(P)_PJ'!$L$3 -> 2017.1532 | C19: ='[5]7.6_FY-2024-25(P)'!C19*'7.7_FY-2024-25(P)_PJ'!$L$3 -> 0.295926 | D19: ='[5]7.6_FY-2024-25(P)'!D19*'7.7_FY-2024-25(P)_PJ'!$L$3 -> 0 | E19: ='[5]7.6_FY-2024-25(P)'!E19*'7.7_FY-2024-25(P)_PJ'!$L$3 -> 28.345116 | F19: ='[5]7.6_FY-2024-25(P)'!F19*'7.7_FY-2024-25(P)_PJ'!$L$3 -> 0 | G19: ='[5]7.6_FY-2024-25(P)'!G19*'7.7_FY-2024-25(P)_PJ'!$L$3 -> 0 | H19: ='[5]7.6_FY-2024-25(P)'!H19*'7.7_FY-2024-25(P)_PJ'!$L$3 -> 0 | I19: ='[5]7.6_FY-2024-25(P)'!I19*'7.7_FY-2024-25(P)_PJ'!$L$3 -> 0 | ... K19: ='[5]7.6_FY-2024-25(P)'!K19*'7.7_FY-2024-25(P)_PJ'!$L$3 -> 2685.2171
A20: Chemical and petrochemical | B20: ='[5]7.6_FY-2024-25(P)'!B20*'7.7_FY-2024-25(P)_PJ'!$L$3 -> 748.68557 | C20: ='[5]7.6_FY-2024-25(P)'!C20*'7.7_FY-2024-25(P)_PJ'!$L$3 -> 5.985342 | D20: ='[5]7.6_FY-2024-25(P)'!D20*'7.7_FY-2024-25(P)_PJ'!$L$3 -> 0 | E20: ='[5]7.6_FY-2024-25(P)'!E20*'7.7_FY-2024-25(P)_PJ'!$L$3 -> 550.04023 | F20: ='[5]7.6_FY-2024-25(P)'!F20*'7.7_FY-2024-25(P)_PJ'!$L$3 -> 0 | G20: ='[5]7.6_FY-2024-25(P)'!G20*'7.7_FY-2024-25(P)_PJ'!$L$3 -> 0 | H20: ='[5]7.6_FY-2024-25(P)'!H20*'7.7_FY-2024-25(P)_PJ'!$L$3 -> 0 | I20: ='[5]7.6_FY-2024-25(P)'!I20*'7.7_FY-2024-25(P)_PJ'!$L$3 -> 0 | ... K20: ='[5]7.6_FY-2024-25(P)'!K20*'7.7_FY-2024-25(P)_PJ'!$L$3 -> 1666.0594
... A47: Non-energy use in other | B47: ='[5]7.6_FY-2024-25(P)'!B47*'7.7_FY-2024-25(P)_PJ'!$L$3 -> 0 | C47: ='[5]7.6_FY-2024-25(P)'!C47*'7.7_FY-2024-25(P)_PJ'!$L$3 -> 0 | D47: ='[5]7.6_FY-2024-25(P)'!D47*'7.7_FY-2024-25(P)_PJ'!$L$3 -> 0 | E47: ='[5]7.6_FY-2024-25(P)'!E47*'7.7_FY-2024-25(P)_PJ'!$L$3 -> 0 | F47: ='[5]7.6_FY-2024-25(P)'!F47*'7.7_FY-2024-25(P)_PJ'!$L$3 -> 0 | G47: ='[5]7.6_FY-2024-25(P)'!G47*'7.7_FY-2024-25(P)_PJ'!$L$3 -> 0 | H47: ='[5]7.6_FY-2024-25(P)'!H47*'7.7_FY-2024-25(P)_PJ'!$L$3 -> 0 | I47: ='[5]7.6_FY-2024-25(P)'!I47*'7.7_FY-2024-25(P)_PJ'!$L$3 -> 0 | ... K47: ='[5]7.6_FY-2024-25(P)'!K47*'7.7_FY-2024-25(P)_PJ'!$L$3 -> 0
A48: Elect. output in GWh | B48: =SUM(B49:B50) -> 0 | C48: =SUM(C49:C50) -> 0 | D48: =SUM(D49:D50) -> 0 | E48: =SUM(E49:E50) -> 0 | F48: =SUM(F49:F50) -> 0 | G48: =SUM(G49:G50) -> 56680.83 | H48: =SUM(H49:H50) -> 149013.98 | I48: =SUM(I49:I50) -> 267809.19 | ... K48: =SUM(K49:K50) -> 473504
A49: Elec output-main activity producer ele plants | B49: ='[5]Disaggregated Balance_2'!F91 -> 0 | C49: ='[5]Disaggregated Balance_2'!I91 -> 0 | D49: ='[5]Aggregated Balance_2'!D62 -> 0 | E49: ='[5]Aggregated Balance_2'!E62 -> 0 | F49: ='[5]Aggregated Balance_2'!F62 -> 0 | G49: ='[5]Aggregated Balance_2'!G62 -> 56680.83 | H49: ='[5]Aggregated Balance_2'!H62 -> 148633.98 | I49: ='[5]Aggregated Balance_2'!J62 -> 255009.19 | J49: ='[5]Disaggregated Balance_2'!BJ91 -> 0 | K49: =SUM(B49:J49) -> 460324
A50: Elec output-autoproducer electricity plants | B50: ='[5]Disaggregated Balance_2'!E92 -> 0 | C50: ='[5]Disaggregated Balance_2'!I92 -> 0 | D50: ='[5]Aggregated Balance_2'!D63 -> 0 | E50: ='[5]Aggregated Balance_2'!E63 -> 0 | F50: ='[5]Aggregated Balance_2'!F63 -> 0 | G50: ='[5]Aggregated Balance_2'!G63 -> 0 | H50: ='[5]Aggregated Balance_2'!H63 -> 380 | I50: ='[5]Aggregated Balance_2'!J63 -> 12800 | J50: ='[5]Disaggregated Balance_2'!BJ92 -> 0 | K50: =SUM(B50:J50) -> 13180
A51: Final consumption refers to End Use Consumption
A52: P: Provisional

Sheet 7.8_FY-2024-25(P)
A1: Table 7.8 : Energy Balance of Petroleum Products for 2024-25(P)
M2: All figures in KToE
B3: LPG | C3: Naphtha | D3: Kerosene | E3: Diesel (HSD+ LDO) | F3: Fuel Oil | G3: Lubricants | H3: Bitumin | I3: Petrol/Motor Spirit | J3: ATF | K3: Petroleum Coke | L3: Other Petroleum Products* | M3: Petroleum Products Total
A4: Production | B4: 14446.906 | C4: 19265.27 | D4: 1053.8669 | E4: 123014.58 | F4: 10695.864 | G4: 1303.7798 | H4: 4940.0617 | I4: 51644.54 | J4: 18913.059 | K4: 11436.653 | L4: 33362.335 | M4: 290076.91
A5: Imports | B5: 23348.196 | C5: 1011.0669 | D5: 0 | E5: 43.416128 | F5: 7558.8703 | G5: 2873.1477 | H5: 2701.2682 | I5: 251.01127 | J5: 0.015565472 | K5: 10052.607 | L5: 2331.1812 | M5: 50170.78
A6: Exports | B6: -622.69706 | C6: -5555.6732 | D6: -12.499848 | E6: -29008.63 | F6: -2376.9828 | G6: -17.103311 | H6: -21.487636 | I6: -16939.081 | J6: -9112.1242 | K6: -529.12445 | L6: -3634.7834 | M6: -67830.188
A7: International marine bunkers | E7: 1008.1044
A8: International aviation bunkers | J8: 2453.277
A9: Stock changes | B9: 0 | C9: 0 | D9: 0 | E9: 1008.1044 | F9: 0 | G9: 0 | H9: 0 | I9: 0 | J9: 0 | K9: 0 | L9: 0 | M9: 1008.1044
A10: Total primary energy supply | B10: =SUM(B4:B9) -> 37172.404 | C10: =SUM(C4:C9) -> 14720.664 | D10: =SUM(D4:D9) -> 1041.367 | E10: =SUM(E4:E9) -> 96065.571 | F10: =SUM(F4:F9) -> 15877.751 | G10: =SUM(G4:G9) -> 4159.8242 | H10: =SUM(H4:H9) -> 7619.8423 | I10: =SUM(I4:I9) -> 34956.47 | ... L10: =SUM(L4:L9) -> 32058.732 | M10: =SUM(B10:L10) -> 276886.99
A11: Statistical differences | B11: -1779.9765 | C11: -717.61058 | D11: -615.00762 | E11: -590.34743 | F11: -9465.0551 | G11: 435.35544 | H11: 373.85632 | I11: 7849.57 | J11: -2683.2622 | K11: -4143.6475 | L11: -20960.709 | M11: -32296.835
A12: Main activity producer electricity plants | B12: -0.019543391 | C12: -0.040595443 | D12: 0 | E12: -1882.0075 | F12: -322.20034 | G12: 0 | H12: 0 | I12: 0 | J12: 0 | K12: 0 | L12: 0 | M12: -2204.268
A13: Autoproducer electricity plants | B13: 0 | C13: 0 | D13: 0 | E13: 0 | F13: 0 | G13: 0 | H13: 0 | I13: 0 | J13: 0 | K13: 0 | L13: 0 | M13: 0
A14: Oil refineries | B14: 14446.906 | C14: 19265.27 | D14: 1053.8669 | E14: 123014.58 | F14: 10695.864 | G14: 1303.7798 | H14: 4940.0617 | I14: 51644.54 | J14: 18913.059 | K14: 11436.653 | L14: 33362.335 | M14: 290076.91
A15: Energy industry own use | B15: 0 | C15: 0 | D15: 0 | E15: 0 | F15: 0 | G15: 0 | H15: 0 | I15: 0 | J15: 0 | K15: 0 | L15: 0 | M15: 0
A16: Losses | B16: 0 | C16: 0 | D16: 0 | E16: 0 | F16: 0 | G16: 0 | H16: 0 | I16: 0 | J16: 0 | K16: 0 | L16: 0 | M16: 0
A17: Final consumption | B17: =SUM(B18,B32,B39,B44) -> 35392.408 | C17: =SUM(C18,C32,C39,C44) -> 14003.013 | D17: =SUM(D18,D32,D39,D44) -> 426.35942 | E17: =SUM(E18,E32,E39,E44) -> 93593.216 | F17: =SUM(F18,F32,F39,F44) -> 6090.4955 | G17: =SUM(G18,G32,G39,G44) -> 4595.1796 | H17: =SUM(H18,H32,H39,H44) -> 7993.6986 | I17: =SUM(I18,I32,I39,I44) -> 42806.04 | ... L17: =SUM(L18,L32,L39,L44) -> 11098.023 | M17: =SUM(B17:L17) -> 242385.89
A18: Industry | B18: =SUM(B19:B31) -> 3455.2127 | C18: =SUM(C19:C31) -> 14003.013 | D18: =SUM(D19:D31) -> 0 | E18: =SUM(E19:E31) -> 8624.3908 | F18: =SUM(F19:F31) -> 1840.4622 | G18: =SUM(G19:G31) -> 0 | H18: =SUM(H19:H31) -> 0 | I18: =SUM(I19:I31) -> 0 | ... L18: =SUM(L19:L31) -> 11098.023 | M18: =SUM(B18:L18) -> 55837.59
A19: Iron and steel | B19: 0 | C19: 0 | D19: 0 | E19: 167.0371 | F19: 509.97437 | G19: 0 | H19: 0 | I19: 0 | J19: 0 | K19: 0 | L19: 0 | M19: 677.01148
A20: Chemical and petrochemical | B20: 186.62203 | C20: 12313.718 | D20: 0 | E20: 111.73358 | F20: 525.41145 | G20: 0 | H20: 0 | I20: 0 | J20: 0 | K20: 0 | L20: 0 | M20: 13137.485
A21: Non-ferrous metals | B21: 113.24591 | C21: 0 | D21: 0 | E21: 15.604339 | F21: 373.34139 | G21: 0 | H21: 0 | I21: 0 | J21: 0 | K21: 0 | L21: 0 | M21: 502.19163
A22: Non-metallic minerals | B22: 0 | C22: 0 | D22: 0 | E22: 500.69398 | F22: 91.834791 | G22: 0 | H22: 0 | I22: 0 | J22: 0 | K22: 0 | L22: 0 | M22: 592.52877
A23: Transport equipment | B23: 0 | C23: 0 | D23: 0 | E23: 0 | F23: 0 | G23: 0 | H23: 0 | I23: 0 | J23: 0 | K23: 0 | L23: 0 | M23: 0
A24: Machinery | B24: 15.512029 | C24: 0 | D24: 0 | E24: 115.16907 | F24: 13.409395 | G24: 0 | H24: 0 | I24: 0 | J24: 0 | K24: 0 | L24: 0 | M24: 144.09049
A25: Mining and quarrying | B25: 10.173324 | C25: 0 | D25: 0 | E25: 1619.941 | F25: 91.250897 | G25: 0 | H25: 0 | I25: 0 | J25: 0 | K25: 0 | L25: 0 | M25: 1721.3653
A26: Food, beverages and tobacco | B26: 0 | C26: 0 | D26: 0 | E26: 0 | F26: 0 | G26: 0 | H26: 0 | I26: 0 | J26: 0 | K26: 0 | L26: 0 | M26: 0
A27: Paper, pulp and print | B27: 0 | C27: 0 | D27: 0 | E27: 0 | F27: 13.409395 | G27: 0 | H27: 0 | I27: 0 | J27: 0 | K27: 0 | L27: 0 | M27: 13.409395
A28: Wood and wood products | B28: 0 | C28: 0 | D28: 0 | E28: 0 | F28: 0 | G28: 0 | H28: 0 | I28: 0 | J28: 0 | K28: 0 | L28: 0 | M28: 0
A29: Construction | B29: 0 | C29: 0 | D29: 0 | E29: 495.72524 | F29: 34.619457 | G29: 0 | H29: 0 | I29: 0 | J29: 0 | K29: 0 | L29: 0 | M29: 530.34469
A30: Textile and leather | B30: 0.70306951 | C30: 0 | D30: 0 | E30: 6.6388289 | F30: 19.834638 | G30: 0 | H30: 0 | I30: 0 | J30: 0 | K30: 0 | L30: 0 | M30: 27.176536
A31: Non-specified (industry) | B31: 3128.9563 | C31: 1689.2946 | D31: 0 | E31: 5591.8476 | F31: 167.37641 | G31: 0 | H31: 0 | I31: 0 | J31: 0 | K31: 16816.489 | L31: 11098.023 | M31: 38491.987
A32: Transport | B32: =SUM(B33:B38) -> 85.409289 | C32: =SUM(C33:C38) -> 0 | D32: =SUM(D33:D38) -> 0 | E32: =SUM(E33:E38) -> 71312.169 | F32: =SUM(F33:F38) -> 1655.9461 | G32: =SUM(G33:G38) -> 0 | H32: =SUM(H33:H38) -> 0 | I32: =SUM(I33:I38) -> 42806.04 | ... L32: =SUM(L33:L38) -> 0 | M32: =SUM(B32:L32) -> 125430.53
A33: Road | B33: 82.669001 | C33: 0 | D33: 0 | E33: 66847.875 | F33: 174.67247 | G33: 0 | H33: 0 | I33: 42806.04 | J33: 0 | K33: 0 | L33: 0 | M33: 109911.26
A34: Domestic aviation | B34: 0 | C34: 0 | D34: 0 | E34: 0.85880568 | F34: 0 | G34: 0 | H34: 0 | I34: 0 | J34: 9570.9647 | K34: 0 | L34: 0 | M34: 9571.8235
A35: Rail | B35: 2.7402876 | C35: 0 | D35: 0 | E35: 2993.5482 | F35: 0 | G35: 0 | H35: 0 | I35: 0 | J35: 0 | K35: 0 | L35: 0 | M35: 2996.2885
A36: Pipeline transport | B36: 0 | C36: 0 | D36: 0 | E36: 0 | F36: 0 | G36: 0 | H36: 0 | I36: 0 | J36: 0 | K36: 0 | L36: 0 | M36: 0
A37: Domestic navigation | B37: 0 | C37: 0 | D37: 0 | E37: 1469.8868 | F37: 1481.2736 | G37: 0 | H37: 0 | I37: 0 | J37: 0 | K37: 0 | L37: 0 | M37: 2951.1605
A38: Non-specified (transport) | B38: 0 | C38: 0 | D38: 0 | E38: 0 | F38: 0 | G38: 0 | H38: 0 | I38: 0 | J38: 0 | K38: 0 | L38: 0 | M38: 0
A39: Other | B39: =SUM(B40:B43) -> 31851.786 | C39: =SUM(C40:C43) -> 0 | D39: =SUM(D40:D43) -> 426.35942 | E39: =SUM(E40:E43) -> 13656.657 | F39: =SUM(F40:F43) -> 2594.0873 | G39: =SUM(G40:G43) -> 4595.1796 | H39: =SUM(H40:H43) -> 7993.6986 | I39: =SUM(I40:I43) -> 0 | ... L39: =SUM(L40:L43) -> 0 | M39: =SUM(B39:L39) -> 61117.768
A40: Residential | B40: 31241.32 | C40: 0 | D40: 240.34967 | E40: 0 | F40: 0 | G40: 0 | H40: 0 | I40: 0 | J40: 0 | K40: 0 | L40: 0 | M40: 31481.67
A41: Commercial and public services | B41: 0 | C41: 0 | D41: 65.83491 | E41: 0 | F41: 0 | G41: 0 | H41: 0 | I41: 0 | J41: 0 | K41: 0 | L41: 0 | M41: 65.83491
A42: Agriculture/forestry | B42: 27.938226 | C42: 0 | D42: 0 | E42: 4468.682 | F42: 42.121427 | G42: 0 | H42: 0 | I42: 0 | J42: 0 | K42: 0 | L42: 0 | M42: 4538.7417
A43: Non-specified (other) | B43: 582.52792 | C43: 0 | D43: 120.17484 | E43: 9187.9746 | F43: 2551.9658 | G43: 4595.1796 | H43: 7993.6986 | I43: 0 | J43: 0 | K43: 0 | L43: 0 | M43: 25031.521
A44: Non-energy use | B44: =SUM(B45:B47) -> 0 | C44: =SUM(C45:C47) -> 0 | D44: =SUM(D45:D47) -> 0 | E44: =SUM(E45:E47) -> 0 | F44: =SUM(F45:F47) -> 0 | G44: =SUM(G45:G47) -> 0 | H44: =SUM(H45:H47) -> 0 | I44: =SUM(I45:I47) -> 0 | ... L44: =SUM(L45:L47) -> 0 | M44: =SUM(B44:L44) -> 0
A45: Non-energy use industry/transformation/energy | B45: 0 | C45: 0 | D45: 0 | E45: 0 | F45: 0 | G45: 0 | H45: 0 | I45: 0 | J45: 0 | K45: 0 | L45: 0 | M45: 0
A46: Non-energy use in transport | B46: 0 | C46: 0 | D46: 0 | E46: 0 | F46: 0 | G46: 0 | H46: 0 | I46: 0 | J46: 0 | K46: 0 | L46: 0 | M46: 0
A47: Non-energy use in other | B47: 0 | C47: 0 | D47: 0 | E47: 0 | F47: 0 | G47: 0 | H47: 0 | I47: 0 | J47: 0 | K47: 0 | L47: 0 | M47: 0
A48: Elect. output in GWh | B48: =SUM(B49:B50) -> 0 | C48: =SUM(C49:C50) -> 0 | D48: =SUM(D49:D50) -> 0 | E48: =SUM(E49:E50) -> 0 | F48: =SUM(F49:F50) -> 0 | G48: =SUM(G49:G50) -> 0 | H48: =SUM(H49:H50) -> 0 | I48: =SUM(I49:I50) -> 0 | ... L48: =SUM(L49:L50) -> 0 | M48: =SUM(B48:L48) -> 0
A49: Elec output-main activity producer ele plants | B49: 0 | C49: 0 | D49: 0 | E49: 0 | F49: 0 | G49: 0 | H49: 0 | I49: 0 | J49: 0 | K49: 0 | L49: 0 | M49: 0
A50: Elec output-autoproducer electricity plants | B50: 0 | C50: 0 | D50: 0 | E50: 0 | F50: 0 | G50: 0 | H50: 0 | I50: 0 | J50: 0 | K50: 0 | L50: 0 | M50: 0
A51: Final consumption refers to End Use Consumption
A52: P: Provisional
A53: * Incluse Paraffin waxes, petroleum jelly, LSWR, MTBE and reformate, BGO, Benzene, MTO, CBFS and Sulfur etc.
